Workbook

Sheet Summary
A1: INPAG Exposure Draft 1 Responses
A3: Totals
A4: Countries | B4: =Countries!F2 -> 46
A5: Responses | B5: =SUM(B8:B11) -> 301
A7: 4 surveys
A8: Describing NPOs | B8: ='Describing NPOs'!A113 -> 110
A9: Concepts & principles | B9: ='Concepts & principles'!A69 -> 66
A10: Financial statements | B10: ='Financial statements'!A70 -> 67
A11: Narrative reporting | B11: ='Narrative reporting'!A61 -> 58
B12: =SUM(B8:B11) -> 301

Sheet Describing NPOs
A1: Respondent ID | B1: Please input your information. Only your country information is a requirement, but personal information is helpful for our analysis if you are willing to provide it. | E1: Any personal information you have provided will only be held for the purposes of developing INPAG. You may withdraw your consent for us to hold any of your personal information at any time here, or email ifr4npo@cipfa.org. | F1: An NPO must have a primary objective of providing a benefit to the public. How important is this characteristic? | J1: An NPO must direct any surpluses for the benefit of the public. How important is this characteristic? | N1: Our intention is to include all entities that are NPOs. Does the term ‘providing a benefit to the public’ exclude any entities that might be NPOs? | Q1: How difficult will it be to apply the concept of ‘benefit to the public’ when determining whether an entity is an NPO? | U1: Do you have any comments on using the proposed characteristics to identify whether an entity is an NPO for the purposes of INPAG? | V1: Do you understand which NPOs are intended to benefit from INPAG? | W1: How important is it that there is application guidance to explain how to apply INPAG for branches? | AA1: How difficult is it to define the reporting boundary of an NPO (ie which sets of activities and transactions to include) for the purposes of producing general purpose financial reports? | AF1: How easy do you find it to understand the control principles of ‘power’ and ‘exposure to variable returns’ that are used in international standards? | AK1: How easy is it to apply the control principles of ‘power’ and ‘exposure to variable returns’ in relation to NPOs? | AP1: INPAG includes a way to simplify application of the control principles. Do you agree that when certain conditions exist, there should be an assumption that an NPO controls another entity, which can be refuted? | AS1: What would be the key elements of an assumption that control exists? | AW1: Do you agree with the use of the terms? 'controlling NPO' instead of 'parent' 'controlled entity' instead of 'subsidiary' 'beneficial interest' instead of 'investment' | BA1: Do you have any suggestions for what would help in applying the principles for control of another entity?
B2: Name | C2: Country | D2: Organisation | E2: I agree | F2: Very important | G2: Important | H2: Not important | I2: Not relevant | J2: Very important | K2: Important | L2: Not important | M2: Not relevant | N2: Yes | O2: No | P2: Don’t know | Q2: Easy | R2: Somewhat difficult | S2: Very challenging | T2: Don’t know | U2: Open-Ended Response | V2: Open-Ended Response | W2: Very important | X2: Important | Y2: Not important | Z2: Not relevant | AA2: Easy | AB2: Somewhat difficult | AC2: Very challenging | AD2: Not sure | AE2: No experience | AF2: Easy | AG2: Somewhat difficult | AH2: Very challenging | AI2: Not sure | AJ2: No experience | AK2: Easy | AL2: Somewhat difficult | AM2: Very challenging | AN2: Not sure | AO2: No experience | AP2: Yes | AQ2: No | AR2: Not sure | AS2: Control of the board | AT2: Control of operating policies | AU2: Control of capital spending plans | AV2: Other (please specify) | AW2: Yes | AX2: No | AY2: Not sure | AZ2: Other (please specify) | BA2: Open-Ended Response
A3: 118285333708 | B3: Carolyne Kamau | C3: Kenya | D3: CIFF | E3: I agree | F3: Very important | J3: Very important | O3: No | Q3: Easy | U3: In addition to public benefit another consideration is shareholding and the option for shareholders to receive dividends. Where the org constitution makes provision for shareholders dividends even if what they are doing is for the benefit of the public they wouldn't be classified as NPOs | V3: Yes | W3: Very important | AD3: Not sure | AJ3: No experience | AO3: No experience | AR3: Not sure | AS3: Control of the board | AT3: Control of operating policies | AU3: Control of capital spending plans | AV3: What about decision making power at leadership level? E.g. overall decision being held with the CEO? | AW3: Yes
A4: 118285119600 | B4: José Eduardo Acosta | C4: Perú | D4: Consejo Departamental de Lima del Colegio de Ingenieros del Perú | E4: I agree | F4: Very important | J4: Very important | N4: Yes | Q4: Easy | U4: Público al cual se aboca la OSFL | V4: No | W4: Very important | AB4: Somewhat difficult | AI4: Not sure | AN4: Not sure | AP4: Yes | AS4: Control of the board | AT4: Control of operating policies | AU4: Control of capital spending plans | AW4: Yes
A5: 118285042320 | B5: PADAAM | C5: BENIN | D5: PADAAM | E5: I agree | F5: Very important | J5: Very important | O5: No | Q5: Easy | V5: Toutes | W5: Very important | AB5: Somewhat difficult | AH5: Very challenging | AM5: Very challenging | AP5: Yes | AS5: Control of the board | AT5: Control of operating policies | AW5: Yes
A6: 118284408056 | B6: Abhay | C6: India | D6: Not Applicable (Independent Consultant/Researcher) | E6: I agree | F6: Very important | J6: Very important | O6: No | R6: Somewhat difficult | U6: Their modus operandi and circumstantial behavioural will surely show the truth . Still, if it requires then one can see/check whether the surplus has been redirected to the public benefit or for the own luxury ? | V6: Yes to a certain extent. | W6: Very important | AC6: Very challenging | AH6: Very challenging | AM6: Very challenging | AP6: Yes | AT6: Control of operating policies | AU6: Control of capital spending plans | AW6: Yes | BA6: A sense of ownership (as management philosophy says/goes) within those entity or in other words adopted by the stakeholders of the entity.
A7: 118284275875 | B7: NAZHLY TERESA ESCALONA MIQUELENA | C7: VENEZUELA | D7: INDEPENDIENTE | E7: I agree | G7: Important | K7: Important | N7: Yes | Q7: Easy | W7: Very important | AC7: Very challenging | AJ7: No experience | AO7: No experience | AQ7: No | AU7: Control of capital spending plans | AX7: No
A8: 118284275816 | B8: Carmen López | C8: Venezuela | D8: Escritorio Contable Carmen López | E8: I agree | F8: Very important | J8: Very important | N8: Yes | S8: Very challenging | U8: La palabra público limita a un determinado grupo espectador, debe ser una palabara que unifique el lenguaje, más amplio podría ser social aunque suena muy redundante | V8: Todas | W8: Very important | AA8: Easy | AG8: Somewhat difficult | AK8: Easy | AP8: Yes | AU8: Control of capital spending plans | AW8: Yes | BA8: No
A9: 118284249438 | B9: José Heli Parr | C9: Venezuela | D9: Personal | E9: I agree | G9: Important | K9: Important | O9: No | R9: Somewhat difficult | U9: Como incluir organizaciones no legalizadas? | V9: Las organizaciones que realmente prestan beneficios al público | W9: Very important | AB9: Somewhat difficult | AI9: Not sure | AL9: Somewhat difficult | AP9: Yes | AT9: Control of operating policies | AU9: Control of capital spending plans | AW9: Yes
A10: 118284217147 | B10: JOSÉ ENOC CANO | C10: COLOMBIA | D10: CAMARA COLOMBIANA DE ENTIDADES SIN ÁNIMO DE LUCRO | E10: I agree | U10: NPAC is very important, it goes beyond the guide to a valuable code of ethics and transparency | W10: Very important | AD10: Not sure | AH10: Very challenging | AM10: Very challenging | AP10: Yes | AS10: Control of the board | AW10: Yes
A11: 118284215772 | B11: Miguel Marcelo Guamán Calvopiña | C11: Ecuador | D11: M2G | E11: I agree | F11: Very important | J11: Very important | P11: Don’t know | R11: Somewhat difficult | V11: No son entidades gubernamentales o del sector público que deban preparar informes financieros con propósito general según las normas de información financiera del sector público
A12: 118284203781 | B12: carlos gerardo virgen andrade | C12: mexico | D12: personal | E12: I agree | F12: Very important | J12: Very important | O12: No | S12: Very challenging | U12: debe de garantizar el principio de negocio en marcha para la evolucion de la OSFL, sin fin de lucro pero autosuficiente | V12: las que necesiten preparar informacion financiera, sin embargo y mi muy particular punto de vista, todas las entidades que manejan dinero publico, deben de ser transparentes, incluso las de los sindicatos, quienes en su marco regulatorio, estan para beneficio de los agremiados, y son los que ocultan mas informacion a costa de los mismos afiliados | W12: Very important | AA12: Easy | AI12: Not sure | AN12: Not sure | AP12: Yes | AS12: Control of the board | AT12: Control of operating policies | AU12: Control of capital spending plans | AV12: control de los ingresos y su aplicacion y evaluacion del publico sin fines de masas o populares, sino de evaluacion de un antes y un despues de cada individuo beneficiado | AY12: Not sure | BA12: no debe haber control de una OSFL sobre otra, se pueden apoyar entre si, pero no controlar, ni someter en base a si les dan los recursos o no
A13: 118284199643 | B13: Cristina | C13: Venezuela | E13: I agree | F13: Very important | M13: Not relevant | O13: No | T13: Don’t know
A14: 118284151430 | B14: Juan Antonio Enriquez Armendariz | C14: México | D14: Particular | E14: I agree | G14: Important | K14: Important | O14: No | Q14: Easy | U14: Ninguno | V14: No | X14: Important | AE14: No experience | AF14: Easy | AK14: Easy | AP14: Yes | AS14: Control of the board | AT14: Control of operating policies | AU14: Control of capital spending plans | AW14: Yes | BA14: No
A15: 118284139583 | B15: Diadie | C15: Niger | D15: Millenium challenge account | E15: I agree | F15: Very important | K15: Important | N15: Yes | S15: Very challenging | U15: No | V15: Yes | W15: Very important | AD15: Not sure | AH15: Very challenging | AM15: Very challenging | AP15: Yes | AS15: Control of the board | AW15: Yes | BA15: No
A16: 118284123412 | B16: Save the Children International | C16: Burkina Faso | D16: Save the Children International | E16: I agree | G16: Important | J16: Very important | N16: Yes | R16: Somewhat difficult | U16: I do not agree with the description of the non-profit organizations. What about the association providing benefit only to their members and not to any public? The first characteristic need to be rephrased like this: They have the primary objective of providing a benefit to their members and/or to the public. | V16: yes
A17: 118284054808 | B17: Bernal Gomez S. | C17: Costa Rica | D17: Asociacion Educativa | E17: I agree | F17: Very important | J17: Very important | N17: Yes | Q17: Easy | U17: -- | V17: -- | W17: Very important | AB17: Somewhat difficult | AJ17: No experience | AO17: No experience | AR17: Not sure | AS17: Control of the board | AT17: Control of operating policies | AW17: Yes | BA17: --
A18: 118284019454 | B18: Jesus Pizarro | C18: United States | D18: Sunrise Movement | E18: I agree | F18: Very important | J18: Very important | O18: No | R18: Somewhat difficult | U18: I recommend incorporating the GRI Standards and Integrating report to ensure that you include all the public in the materiality assessment. (all stakeholders) | V18: Yes. The intention is to benefit the public, donors, beneficiaries, and all stakeholders. | W18: Very important | AB18: Somewhat difficult | AG18: Somewhat difficult | AL18: Somewhat difficult | AP18: Yes | AS18: Control of the board | AU18: Control of capital spending plans | AV18: Common management, one dominant donors | AY18: Not sure | AZ18: My recommendation is to maintain the same technical term like in for profit accounting. | BA18: Another recommendation is the flow of money. In my experience, when an entity depends on the funding of one donor, then is some way, this entity is the subsidiary of the funding entity.
A19: 118283987676 | B19: JULIA MONICA DE LA VICTORIA POLO | C19: Colombia | D19: FUNDACION Meraki Colces | E19: I agree | F19: Very important | J19: Very important | O19: No | Q19: Easy | U19: The nature of this type of entities is aimed to benefit the communities, either in general or specifically. What determines if it belongs or not, is the non - profit nature | V19: Yes, I understand | W19: Very important | AC19: Very challenging | AH19: Very challenging | AM19: Very challenging | AR19: Not sure | AS19: Control of the board | AW19: Yes
A20: 118283962707 | B20: julio cesar zea lasso | C20: colombia | D20: independiente | E20: I agree | F20: Very important | J20: Very important | O20: No | R20: Somewhat difficult | U20: habría que caracterizar muy bien las organizaciones. | V20: no | X20: Important | AB20: Somewhat difficult | AG20: Somewhat difficult | AL20: Somewhat difficult | AQ20: No | AS20: Control of the board | AV20: no aplica | AW20: Yes | AZ20: no | BA20: caracterizar cada organización
A21: 118283938011 | B21: Mohammad Anwarul Karim | C21: Bangladesh | D21: FRC | E21: I agree | F21: Very important | K21: Important | O21: No | R21: Somewhat difficult | U21: The terms such as 'Public', 'Private', 'Benefit' need to be defined. | V21: Yes | W21: Very important | AB21: Somewhat difficult | AG21: Somewhat difficult | AK21: Easy | AP21: Yes | AS21: Control of the board | AU21: Control of capital spending plans | AW21: Yes
A22: 118283922704 | B22: Ysabel Figueira | C22: Venezuela | E22: I agree | G22: Important | J22: Very important | P22: Don’t know | R22: Somewhat difficult | U22: Entiendo la importancia de "beneficio al público", pero creo que también es más importante el "no distribuir ningún tipo de ganancia a los asociados" | V22: Aquí en Venezuela, pudieran ser varias, desde Colegios Profesionales, Instituciones educativas, instituciones humanitarias, comunidades y otras | W22: Very important | AB22: Somewhat difficult | AJ22: No experience | AO22: No experience | AP22: Yes | AS22: Control of the board | AT22: Control of operating policies | AU22: Control of capital spending plans | AV22: Presupuestos rígidos, toma de decisiones en cabeza de un pequeño grupo | AW22: Yes | BA22: No, no tengo otra sugerencia
A23: 118283773122 | B23: Busha Gemechu | C23: Ethiopia | D23: VSF | E23: I agree | F23: Very important | J23: Very important | N23: Yes | R23: Somewhat difficult | V23: Yes | W23: Very important | AB23: Somewhat difficult | AH23: Very challenging | AM23: Very challenging | AR23: Not sure | AS23: Control of the board | AT23: Control of operating policies | AW23: Yes
A24: 118283749298 | B24: ONECCA MALI | C24: Mali | D24: Organisations à but non lucratif | E24: I agree | F24: Very important | L24: Not important | O24: No | Q24: Easy | U24: Caractéristiques insuffisances pour déterminer si une entité est une OBNL | V24: La question n'est pas précise | W24: Very important | AB24: Somewhat difficult | AG24: Somewhat difficult | AM24: Very challenging | AQ24: No | AS24: Control of the board | AV24: Contrôle juridique | AX24: No
A25: 118283693275 | B25: Cabinet MECA | C25: Senegal | D25: Cabinet d'expertise comptable | E25: I agree | G25: Important | J25: Very important | N25: Yes | R25: Somewhat difficult | U25: Oui, sur le concept d'avantage conféré au public: car une OBNL peut délivrer des avantages à ses membres seulement et pas au public en général | V25: oui | W25: Very important | AA25: Easy | AJ25: No experience | AO25: No experience | AP25: Yes | AS25: Control of the board | AW25: Yes
A26: 118283661003 | B26: Priscilla Abredu | C26: Ghana | D26: International Needs Ghana | E26: I agree | F26: Very important | J26: Very important | O26: No | Q26: Easy | V26: Especially those who prepare accounts using the accrual basis | W26: Very important | AA26: Easy | AF26: Easy | AK26: Easy | AP26: Yes | AS26: Control of the board | AT26: Control of operating policies | AU26: Control of capital spending plans | AW26: Yes
A27: 118283635952 | B27: Rafat Bandak | C27: Palestine | D27: FTS Consulting | E27: I agree | F27: Very important | K27: Important | O27: No | Q27: Easy | U27: No, the NPO will have formation documents and by-laws that will help in this definition to be defined as NPO. | V27: Yes, I understand which NPOs are intended to benefit from INPAG. | X27: Important | AB27: Somewhat difficult | AF27: Easy | AL27: Somewhat difficult | AP27: Yes | AS27: Control of the board | AU27: Control of capital spending plans | AX27: No | BA27: It should be very clear that the NPO practice the best benefit for providing programs to the public with minimize cost and maximize benefit when applying control of another entity.
A28: 118283653420 | B28: SARAH SECKLEY | C28: GHANA | D28: ICAG | E28: I agree | F28: Very important | J28: Very important | O28: No | Q28: Easy | U28: no | V28: No
A29: 118283632584 | B29: Mohamed Khlass | C29: Tunisia | D29: MKAC | E29: I agree | G29: Important | L29: Not important | N29: Yes | R29: Somewhat difficult | U29: Benefit to the public might be direct benefit or indirect benefit, such as the NPO working on promoting environment protection, water saving and other sustainability related aspects, which will serve to public that is "no yet existing". It might also be the case for NPO dedicated to the memory of dead persons, such as war victims, which tries to serve the benefit of currently "no longer existing" public | V29: Yes | W29: Very important | AB29: Somewhat difficult | AI29: Not sure | AN29: Not sure | AP29: Yes | AS29: Control of the board | AT29: Control of operating policies | AU29: Control of capital spending plans | AW29: Yes | BA29: N/A
A30: 118283607716 | B30: Akintoye Olufemi | C30: Nigeria | D30: UNDP | E30: I agree | F30: Very important | J30: Very important | O30: No | Q30: Easy | U30: None | V30: Yes | W30: Very important | AB30: Somewhat difficult | AJ30: No experience | AO30: No experience | AR30: Not sure | AS30: Control of the board | AW30: Yes | BA30: None
A31: 118283603766 | B31: Alex Andwati | C31: CH | D31: The Global Fund | E31: I agree | F31: Very important | J31: Very important | O31: No | R31: Somewhat difficult | U31: I do not have any specific comments | V31: I think the guidance given by the ED is quite clear | X31: Important | AB31: Somewhat difficult | AJ31: No experience | AO31: No experience | AP31: Yes | AS31: Control of the board | AT31: Control of operating policies | AU31: Control of capital spending plans | AW31: Yes | BA31: Not applicable
A32: 118283542073 | B32: Pavel Gamolskiy | C32: Russia | D32: Association "Club of accountants and auditors of non-profit organizations" | E32: I agree | F32: Very important | K32: Important | N32: Yes | R32: Somewhat difficult | U32: Organizations such as associations of property owners or consumer cooperatives, which are created for the personal benefit of their members, are formally classified as NGOs in Russia. It is difficult to decide whether INPAG should be used or not. | V32: Yes | W32: Very important | AB32: Somewhat difficult | AO32: No experience | AR32: Not sure | AS32: Control of the board | AW32: Yes | BA32: No
A33: 118283510339 | B33: Ndiémé PAYE BADIANE | C33: Sénégal | D33: cec afsa | E33: I agree | F33: Very important | J33: Very important | N33: Yes | S33: Very challenging | U33: We propose to add: the NPO should not make pecuniary profit to be shared among its members. | V33: yes | W33: Very important | AB33: Somewhat difficult | AH33: Very challenging | AN33: Not sure | AP33: Yes | AT33: Control of operating policies | AU33: Control of capital spending plans | AW33: Yes
A34: 118283502400 | B34: Cecilia Cassandrah Karikari | C34: Ghana | D34: Institute of chartered accountants ghana | E34: I agree | F34: Very important | J34: Very important | O34: No | Q34: Easy | U34: No comments | V34: Yes
A35: 118283509425 | B35: Philip | C35: Uganda | E35: I agree | F35: Very important | L35: Not important | O35: No | Q35: Easy | V35: Yes | W35: Very important | AA35: Easy | AG35: Somewhat difficult | AL35: Somewhat difficult | AP35: Yes | AV35: Ability to influence staffing hire/ fire & funding acceptance | AW35: Yes
A36: 118283504461 | B36: CABINET ABS | C36: SENEGAL | D36: EXPERTISE COMPTABLE | E36: I agree | F36: Very important | K36: Important | P36: Don’t know | R36: Somewhat difficult | V36: non | Z36: Not relevant | AA36: Easy | AJ36: No experience | AO36: No experience | AQ36: No | AT36: Control of operating policies | AW36: Yes | BA36: non
A37: 118283453461 | B37: David Wortham | C37: United Kingdom | D37: Empacta Training Limited | E37: I agree | F37: Very important | J37: Very important | N37: Yes | R37: Somewhat difficult | U37: I wonder whether "benefit to society" might be a better term that can then encompass benefiting the natural environment and other work? | V37: I believe so | W37: Very important | AB37: Somewhat difficult | AG37: Somewhat difficult | AM37: Very challenging | AP37: Yes | AS37: Control of the board | AT37: Control of operating policies | AW37: Yes | BA37: The overriding principle should be one of function over form. If the practical effect of any type of relationship is that one organisation acts at the behest of or in parallel with another, there is control, regardless of the presence or absence of any legal relationship.
A38: 118283435787 | B38: SP DECOFI | C38: Senégal | D38: SP DECOFI | E38: I agree | F38: Very important | J38: Very important | O38: No | Q38: Easy | U38: Adapté | V38: oui | W38: Very important | AA38: Easy | AG38: Somewhat difficult | AK38: Easy | AP38: Yes | AT38: Control of operating policies | AU38: Control of capital spending plans | AV38: Le contrôle effectif passe par les investissements et les opérations d'exploitation | AW38: Yes
A39: 118283423409 | B39: PASCAL NDAHAYO | C39: Rwanda | D39: Individual consultant | E39: I agree | F39: Very important | J39: Very important | P39: Don’t know | S39: Very challenging | U39: The term benefit to the public will solely describe the NPO because the Public organs also do so . | V39: Yes | W39: Very important | AD39: Not sure | AI39: Not sure | AN39: Not sure | AR39: Not sure | AS39: Control of the board | AT39: Control of operating policies | AW39: Yes
A40: 118283400953 | B40: Barnabas Getu | C40: Ethiopia | D40: DLCO-EA | E40: I agree | F40: Very important | J40: Very important | N40: Yes | R40: Somewhat difficult | U40: International organizations such as funded by member countries contributions should be considered since the legal ground nationally may not make them accountable. you can take my organization Desert Control Organization for the Eastern Africa where all the proposed INPAG guideline is perfect framework but no legal obligation even if INPAG is adopted nationally. | V40: Yes | W40: Very important | AB40: Somewhat difficult | AF40: Easy | AK40: Easy | AR40: Not sure | AS40: Control of the board | AT40: Control of operating policies | AU40: Control of capital spending plans | AW40: Yes | AZ40: Beneficial interest is somewhat not related for the meaning of investment and what is the problem in using investment itself
...

Sheet Concepts & principles
A1: Respondent ID | B1: Please input your information. Only your country information is a requirement, but personal information is helpful for our analysis if you are willing to provide it. | E1: Any personal information you have provided will only be held for the purposes of developing INPAG. You may withdraw your consent for us to hold any of your personal information at any time here, or email ifr4npo@cipfa.org. | F1: How important are these primary users of NPO general-purpose financial reports? (p10) | U1: How important is the following information to primary users for decision making and accountability? (p10) | AJ1: How important are the following characteristics of financial and non-financial information, for decision making and accountability? (p14) | BB1: How important is it that INPAG includes the concept of ‘service potential’ where an NPO holds assets to deliver its mission rather than to generate financial returns? (p18) | BE1: The IFRS for SMEs Accounting Standard includes provisions for 'undue cost and effort'. This makes certain requirements not applicable, if they would result in excessive costs or efforts compared to the benefits to users of providing the information. Should this be kept in INPAG? | BH1: How important is it that INPAG includes the concept of ‘service potential’ where an NPO holds assets to deliver its mission rather than to generate financial returns? (p13) | BK1: How easy is it to find the information that you want in INPAG? Is the structure easy to follow? (p26) | BN1: Do you have any other comments (including regulatory, assurance or cost/benefit) relating to this INPAG Exposure Draft 1?
B2: Name | C2: Country | D2: Organisation | E2: I agree | F2: Grantors / donors - Very important | G2: Grantors / donors - Important | H2: Grantors / donors - Less Important | I2: Service recipients / beneficiaries - Very important | J2: Service recipients / beneficiaries - Important | K2: Service recipients / beneficiaries - Less Important | L2: Banks / suppliers - Very important | M2: Banks / suppliers - Important | N2: Banks / suppliers - Less Important | O2: Tax authorities / Regulators - Very important | P2: Tax authorities / Regulators - Important | Q2: Tax authorities / Regulators - Less Important | R2: Civil society - Very important | S2: Civil society - Important | T2: Civil society - Less Important | U2: NPO’s objectives and what it has achieved - Very important | V2: NPO’s objectives and what it has achieved - Important | W2: NPO’s objectives and what it has achieved - Less important | X2: Long term plans - Very important | Y2: Long term plans - Important | Z2: Long term plans - Less important | AA2: Analysis of the financial statements - Very important | AB2: Analysis of the financial statements - Important | AC2: Analysis of the financial statements - Less important | AD2: Nature of restricted funds - Very important | AE2: Nature of restricted funds - Important | AF2: Nature of restricted funds - Less important | AG2: Risks and uncertainties - Very important | AH2: Risks and uncertainties - Important | AI2: Risks and uncertainties - Less important | AJ2: Faithfully represented - Very important | AK2: Faithfully represented - Important | AL2: Faithfully represented - Less important | AM2: Relevant - Very important | AN2: Relevant - Important | AO2: Relevant - Less important | AP2: Comparable - Very important | AQ2: Comparable - Important | AR2: Comparable - Less important | AS2: Verifiable - Very important | AT2: Verifiable - Important | AU2: Verifiable - Less important | AV2: Timely - Very important | AW2: Timely - Important | AX2: Timely - Less important | AY2: Understandable - Very important | AZ2: Understandable - Important | BA2: Understandable - Less important | BB2: Very important | BC2: Important | BD2: Not important | BE2: Yes, keep it | BF2: No, remove it | BG2: I am not sure | BH2: Important | BI2: Not important | BJ2: Not relevant | BK2: Easy | BL2: Reasonable | BM2: Difficult | BN2: Open-Ended Response
A3: 114284253131 | B3: Carolyne Kamau | C3: Kenya | D3: CIFF | E3: I agree | F3: Very important | K3: Less Important | M3: Important | O3: Very important | R3: Very important | U3: Very important | X3: Very important | AA3: Very important | AE3: Important | AG3: Very important | AK3: Important | AN3: Important | AP3: Very important | AS3: Very important | AV3: Very important | AY3: Very important | BC3: Important | BE3: Yes, keep it | BH3: Important | BK3: Easy
A4: 114284016637 | B4: José Eduardo Acosta R P | C4: Perú | D4: PharusData SACS | E4: I agree | F4: Very important | I4: Very important | L4: Very important | O4: Very important | R4: Very important | U4: Very important | X4: Very important | AA4: Very important | AD4: Very important | AG4: Very important | AJ4: Very important | AM4: Very important | AP4: Very important | AS4: Very important | AV4: Very important | AY4: Very important | BB4: Very important | BE4: Yes, keep it | BH4: Important | BK4: Easy | BN4: ¿Se prevé instituciones tales como los colegios profesionales?
A5: 114283329015 | B5: Carmen López | C5: Venezuela | D5: Escritorio COntable Carmen López | E5: I agree | F5: Very important | I5: Very important | L5: Very important | O5: Very important | R5: Very important | U5: Very important | X5: Very important | AA5: Very important | AD5: Very important | AG5: Very important | AJ5: Very important | AM5: Very important | AP5: Very important | AS5: Very important | AV5: Very important | AY5: Very important | BB5: Very important | BG5: I am not sure | BH5: Important | BK5: Easy | BN5: No
A6: 114283263932 | B6: carlos virgen | C6: mexico | D6: personal | E6: I agree | F6: Very important | I6: Very important | L6: Very important | O6: Very important | R6: Very important | U6: Very important | X6: Very important | AA6: Very important | AD6: Very important | AG6: Very important | AJ6: Very important | AM6: Very important | AP6: Very important | AS6: Very important | AV6: Very important | AY6: Very important | BB6: Very important | BG6: I am not sure | BH6: Important | BL6: Reasonable | BN6: se debe evaluar la capacitacion para la verdadera explotacion del proyecto y con eso garantizar un manejo eficiente de todos los recursos
A7: 114283214937 | B7: Juan Enriquez | C7: México | D7: Particular | E7: I agree | G7: Important | J7: Important | L7: Very important | O7: Very important | R7: Very important | U7: Very important | X7: Very important | AA7: Very important | AD7: Very important | AG7: Very important | AJ7: Very important | AM7: Very important | AP7: Very important | AS7: Very important | AV7: Very important | AY7: Very important | BB7: Very important | BE7: Yes, keep it | BH7: Important | BM7: Difficult
A8: 114283206998 | B8: Diadie | C8: Niger | D8: Millenium challenge | E8: I agree | F8: Very important | I8: Very important | L8: Very important | O8: Very important | R8: Very important | U8: Very important | X8: Very important | AA8: Very important | AD8: Very important | AG8: Very important | AJ8: Very important | AM8: Very important | AP8: Very important | AS8: Very important | AV8: Very important | AY8: Very important | BB8: Very important | BE8: Yes, keep it | BH8: Important | BL8: Reasonable | BN8: No
A9: 114283112784 | C9: Costa Rica | E9: I agree | F9: Very important | I9: Very important | M9: Important | O9: Very important | S9: Important | U9: Very important | X9: Very important | AA9: Very important | AD9: Very important | AG9: Very important | AJ9: Very important | AM9: Very important | AP9: Very important | AS9: Very important | AV9: Very important | AY9: Very important | BC9: Important | BG9: I am not sure | BH9: Important | BL9: Reasonable | BN9: --
A10: 114283088372 | B10: Jesus Pizarro | C10: United States | D10: Sunrise Movement | E10: I agree | F10: Very important | I10: Very important | M10: Important | P10: Important | R10: Very important | V10: Important | Y10: Important | AA10: Very important | AD10: Very important | AG10: Very important | AJ10: Very important | AM10: Very important | AP10: Very important | AS10: Very important | AV10: Very important | AY10: Very important | BC10: Important | BF10: No, remove it | BH10: Important | BK10: Easy | BN10: I will include Integrating Reporting as part of the Framework because this is the opportunity to provide information about the social and environmental impact. Also, I will include guidance on how to manage foreign exchange. Consolidated financial reporting of an international NGO is not useful for making decisions because of the mismatch between the currency of the donation and the currency of the expense. Providing Modify Statement of Activity by specific program and project is important.
A11: 114283067360 | B11: Patience Mmoyo | C11: Zambia | D11: Maringa Africa | E11: I agree | G11: Important | I11: Very important | P11: Important | S11: Important | V11: Important | AB11: Important | AE11: Important | AH11: Important | AK11: Important | AN11: Important | AQ11: Important | AS11: Very important | AV11: Very important | AY11: Very important | BC11: Important | BE11: Yes, keep it | BH11: Important | BK11: Easy
A12: 114282624002 | B12: Pavel Gamolskiy | C12: Russia | D12: Association "Club of accountants and auditors of non-profit organizations" | E12: I agree | F12: Very important | J12: Important | N12: Less Important | P12: Important | R12: Very important | U12: Very important | Z12: Less important | AB12: Important | AE12: Important | AH12: Important | AJ12: Very important | AM12: Very important | AP12: Very important | AS12: Very important | AW12: Important | AY12: Very important | BC12: Important | BE12: Yes, keep it | BH12: Important | BK12: Easy | BN12: No
A13: 114282986011 | B13: Mohammad Anwarul Karim | C13: Bangladesh | D13: FRC | E13: I agree | F13: Very important | J13: Important | M13: Important | O13: Very important | S13: Important | U13: Very important | X13: Very important | AA13: Very important | AD13: Very important | AG13: Very important | AJ13: Very important | AM13: Very important | AP13: Very important | AS13: Very important | AV13: Very important | AY13: Very important | BC13: Important | BE13: Yes, keep it | BH13: Important | BK13: Easy
A14: 114282967598 | B14: Ysabel Figueira | C14: Venezuela | E14: I agree | F14: Very important | I14: Very important | M14: Important | O14: Very important | T14: Less Important | U14: Very important | X14: Very important | AA14: Very important | AD14: Very important | AG14: Very important | AJ14: Very important | AM14: Very important | AQ14: Important | AS14: Very important | AW14: Important | AZ14: Important | BB14: Very important | BG14: I am not sure | BH14: Important | BL14: Reasonable | BN14: No, no tengo otro comentario
A15: 114282789270 | B15: FATOUMATA CISSE EPSE SIDIBE | C15: Mali | D15: ONECCA MALI | E15: I agree | F15: Very important | I15: Very important | M15: Important | P15: Important | R15: Very important | U15: Very important | Y15: Important | AA15: Very important | AD15: Very important | AH15: Important | AJ15: Very important | AM15: Very important | AP15: Very important | AS15: Very important | AV15: Very important | AY15: Very important | BC15: Important | BE15: Yes, keep it | BH15: Important | BL15: Reasonable
A16: 114282798693 | B16: Busha Gemechu | C16: Ethiopia | D16: VSF | E16: I agree | F16: Very important | J16: Important | N16: Less Important | O16: Very important | R16: Very important | U16: Very important | X16: Very important | AA16: Very important | AD16: Very important | AG16: Very important | AJ16: Very important | AM16: Very important | AP16: Very important | AS16: Very important | AV16: Very important | AY16: Very important | BC16: Important | BG16: I am not sure | BH16: Important | BL16: Reasonable
A17: 114282724667 | B17: Oumou Wane Toure | C17: Senegal | D17: Cabinet MECA | E17: I agree | F17: Very important | I17: Very important | M17: Important | O17: Very important | R17: Very important | U17: Very important | X17: Very important | AA17: Very important | AD17: Very important | AG17: Very important | AJ17: Very important | AM17: Very important | AP17: Very important | AS17: Very important | AV17: Very important | AY17: Very important | BB17: Very important | BE17: Yes, keep it | BH17: Important | BK17: Easy
A18: 114282686128 | B18: Rafat Bandak | C18: Palestine | D18: FTS Consulting | E18: I agree | F18: Very important | J18: Important | N18: Less Important | O18: Very important | T18: Less Important | U18: Very important | Y18: Important | AA18: Very important | AD18: Very important | AG18: Very important | AJ18: Very important | AM18: Very important | AQ18: Important | AS18: Very important | AW18: Important | AZ18: Important | BB18: Very important | BF18: No, remove it | BH18: Important | BL18: Reasonable | BN18: No, it is clear
A19: 114282667583 | B19: Mohamed KHLASS | C19: Tunisia | D19: MKAC | E19: I agree | F19: Very important | I19: Very important | M19: Important | P19: Important | R19: Very important | U19: Very important | Y19: Important | AA19: Very important | AD19: Very important | AG19: Very important | AJ19: Very important | AM19: Very important | AP19: Very important | AS19: Very important | AV19: Very important | AY19: Very important | BB19: Very important | BF19: No, remove it | BH19: Important | BL19: Reasonable
A20: 114282651764 | B20: Akintoye Olufemi | C20: Nigeria | D20: UNDP | E20: I agree | F20: Very important | K20: Less Important | N20: Less Important | P20: Important | S20: Important | U20: Very important | Y20: Important | AB20: Important | AF20: Less important | AI20: Less important | AJ20: Very important | AM20: Very important | AP20: Very important | AS20: Very important | AV20: Very important | AY20: Very important | BD20: Not important | BE20: Yes, keep it | BJ20: Not relevant | BL20: Reasonable | BN20: None
A21: 114282641245 | B21: Alex Andwati | C21: CH | D21: The Global Fund | E21: I agree | F21: Very important | I21: Very important | M21: Important | Q21: Less Important | R21: Very important | U21: Very important | X21: Very important | AA21: Very important | AD21: Very important | AG21: Very important | AJ21: Very important | AM21: Very important | AP21: Very important | AS21: Very important | AV21: Very important | AY21: Very important | BB21: Very important | BG21: I am not sure | BH21: Important | BL21: Reasonable | BN21: Not applicable
A22: 114282574455 | B22: Ndiémé PAYE BADIANE | C22: Sénégal | D22: cec afsa | E22: I agree | F22: Very important | I22: Very important | L22: Very important | O22: Very important | S22: Important | U22: Very important | X22: Very important | AA22: Very important | AD22: Very important | AG22: Very important | AJ22: Very important | AM22: Very important | AP22: Very important | AS22: Very important | AV22: Very important | AY22: Very important | BB22: Very important | BG22: I am not sure | BH22: Important | BK22: Easy
A23: 114282567089 | B23: Philip | C23: Uganda | E23: I agree | F23: Very important | K23: Less Important | M23: Important | O23: Very important | T23: Less Important | U23: Very important | Z23: Less important | AB23: Important | AF23: Less important | AH23: Important | AL23: Less important | AM23: Very important | AP23: Very important | AT23: Important | AV23: Very important | BA23: Less important | BC23: Important | BF23: No, remove it | BH23: Important | BK23: Easy
A24: 114282565816 | B24: cabinet abs | C24: SENEGAL | D24: EXPERT COMPTABLE | E24: I agree | F24: Very important | J24: Important | N24: Less Important | P24: Important | S24: Important | U24: Very important | Y24: Important | AA24: Very important | AE24: Important | AI24: Less important | AJ24: Very important | AN24: Important | AR24: Less important | AS24: Very important | AW24: Important | AZ24: Important | BD24: Not important | BG24: I am not sure | BI24: Not important | BL24: Reasonable | BN24: non
A25: 114282529570 | B25: David Wortham | C25: United Kingdom | D25: Empacta Training Limited | E25: I agree | F25: Very important | I25: Very important | M25: Important | P25: Important | R25: Very important | U25: Very important | Y25: Important | AB25: Important | AD25: Very important | AH25: Important | AK25: Important | AN25: Important | AQ25: Important | AT25: Important | AV25: Very important | AY25: Very important | BB25: Very important | BE25: Yes, keep it | BH25: Important | BL25: Reasonable | BN25: I find the section referencing system rather opaque in places.
A26: 114282522017 | B26: Mouhamed E.B. WADE | C26: Sénégal | D26: SP DECOFI | E26: I agree | F26: Very important | I26: Very important | M26: Important | O26: Very important | S26: Important | U26: Very important | X26: Very important | AA26: Very important | AD26: Very important | AG26: Very important | AJ26: Very important | AM26: Very important | AP26: Very important | AS26: Very important | AV26: Very important | AY26: Very important | BB26: Very important | BE26: Yes, keep it | BH26: Important | BL26: Reasonable
A27: 114282498795 | B27: Barnabas Getu | C27: Ethiopia | D27: DLCO-EA | E27: I agree | F27: Very important | I27: Very important | L27: Very important | O27: Very important | R27: Very important | U27: Very important | X27: Very important | AA27: Very important | AD27: Very important | AG27: Very important | AJ27: Very important | AM27: Very important | AP27: Very important | AS27: Very important | AV27: Very important | AY27: Very important | BB27: Very important | BE27: Yes, keep it | BH27: Important | BK27: Easy | BN27: There should be some reasonable restrictions in application of Cost /Benefit to avoid negligence and maintain consistency
A28: 114282299120 | B28: Ayebaekipiriye Abaye | C28: Nigeria | D28: Save the Children International | E28: I agree | F28: Very important | J28: Important | M28: Important | P28: Important | R28: Very important | U28: Very important | X28: Very important | AA28: Very important | AD28: Very important | AG28: Very important | AJ28: Very important | AM28: Very important | AP28: Very important | AS28: Very important | AV28: Very important | AY28: Very important | BB28: Very important | BE28: Yes, keep it | BH28: Important | BK28: Easy | BN28: In keeping the provisions for 'undue cost and effort'. or requirements that are impracticable - “applying a requirement is impracticable when the entity cannot apply it after making every reasonable effort to do so” A List of such "requirements" can be historically identified and added as an addition to the provision - for NPOs. To help as a guide to validate the specific circumstances or Management judgement instead of just leaving it vague.
A29: 114282217187 | C29: Sénégal | E29: I agree
A30: 114282144403 | B30: ONG BROOKE | C30: SENEGAL | D30: ONG BROOKE | E30: I agree | F30: Very important | I30: Very important | N30: Less Important | P30: Important | S30: Important | U30: Very important | Y30: Important | AA30: Very important | AD30: Very important | AG30: Very important | AJ30: Very important | AN30: Important | AQ30: Important | AT30: Important | AW30: Important | AZ30: Important | BB30: Very important | BE30: Yes, keep it | BH30: Important | BL30: Reasonable
A31: 114281930868 | B31: Rohat Zada | C31: Iraq | D31: Catholic University in Erbil | E31: I agree | F31: Very important | K31: Less Important | L31: Very important | O31: Very important | R31: Very important | U31: Very important | X31: Very important | AB31: Important | AD31: Very important | AG31: Very important | AJ31: Very important | AM31: Very important | AP31: Very important | AS31: Very important | AV31: Very important | AY31: Very important | BC31: Important | BF31: No, remove it | BH31: Important | BL31: Reasonable
A32: 114281790588 | B32: Sizwile Sibindi | C32: Kenya | D32: Financing Alliance for Health | E32: I agree | F32: Very important | J32: Important | N32: Less Important | O32: Very important | S32: Important | U32: Very important | X32: Very important | AA32: Very important | AD32: Very important | AG32: Very important | AJ32: Very important | AM32: Very important | AP32: Very important | AS32: Very important | AV32: Very important | AY32: Very important | BC32: Important | BE32: Yes, keep it | BH32: Important | BL32: Reasonable
A33: 114281768903 | B33: caroline kariuki | C33: Kenya | E33: I agree | F33: Very important | I33: Very important | M33: Important | O33: Very important | R33: Very important | V33: Important | Y33: Important | AA33: Very important | AE33: Important | AG33: Very important | AK33: Important | AM33: Very important | AS33: Very important | AV33: Very important | AZ33: Important | BB33: Very important | BE33: Yes, keep it | BH33: Important | BL33: Reasonable | BN33: It is important to keep narrative report reasonably simple, structured and straight to the point. Also identify what is a MUST to disclose and what can be optional. Language should also be understood by non accountants
A34: 114281734178 | B34: Lamin N'jai | C34: Switzerland | D34: Global Fund | E34: I agree | F34: Very important | I34: Very important | M34: Important | O34: Very important | R34: Very important | U34: Very important | X34: Very important | AA34: Very important | AD34: Very important | AG34: Very important | AJ34: Very important | AM34: Very important | AP34: Very important | AS34: Very important | AV34: Very important | AY34: Very important | BB34: Very important | BE34: Yes, keep it | BH34: Important | BK34: Easy | BN34: None
A35: 114281725346 | B35: Pesh Framjee | C35: United Kingdom | E35: I agree | F35: Very important | I35: Very important | N35: Less Important | P35: Important | S35: Important | U35: Very important | X35: Very important | AA35: Very important | AD35: Very important | AG35: Very important | AJ35: Very important | AM35: Very important | AR35: Less important | AT35: Important | AW35: Important | AY35: Very important | BB35: Very important | BE35: Yes, keep it | BH35: Important | BL35: Reasonable
A36: 114281717958 | B36: Nigel Davies | C36: United Kingdom | D36: PAG member | E36: I agree | F36: Very important | I36: Very important | L36: Very important | P36: Important | R36: Very important | U36: Very important | Y36: Important | AA36: Very important | AD36: Very important | AH36: Important | AJ36: Very important | AM36: Very important | AP36: Very important | AT36: Important | AW36: Important | AY36: Very important | BB36: Very important | BE36: Yes, keep it | BH36: Important | BK36: Easy | BN36: In applying cost-benefit- the focus should be on the user not the NPO in terms of identifying the benefit aspect and consider restricting it to certain aspects eg net present value, fair value involving modelling (rather than readily available market prices) and frequency of valuations (eg buildings) or availbility of valuation (eg unlisted investments)
A37: 114281713148 | B37: Mutala Mohammed | C37: Ghana | D37: Bean Counters | E37: I agree | F37: Very important | J37: Important | M37: Important | Q37: Less Important | S37: Important | V37: Important | X37: Very important | AA37: Very important | AE37: Important | AG37: Very important | AJ37: Very important | AM37: Very important | AP37: Very important | AS37: Very important | AV37: Very important | AY37: Very important | BC37: Important | BE37: Yes, keep it | BH37: Important | BL37: Reasonable | BN37: No
A38: 114281472728 | B38: Amelaku Belay Teka | C38: Ethiopia | D38: Debre Tabor University | E38: I agree | F38: Very important | I38: Very important | N38: Less Important | Q38: Less Important | S38: Important | U38: Very important | X38: Very important | AA38: Very important | AD38: Very important | AG38: Very important | AJ38: Very important | AM38: Very important | AP38: Very important | AS38: Very important | AV38: Very important | AY38: Very important | BB38: Very important | BE38: Yes, keep it | BH38: Important | BL38: Reasonable
A39: 114281285529 | B39: Hilda | C39: Uganda | D39: Financial Management Consultant & Trainer | E39: I agree | F39: Very important | I39: Very important | M39: Important | O39: Very important | S39: Important | U39: Very important | X39: Very important | AA39: Very important | AD39: Very important | AG39: Very important | AJ39: Very important | AM39: Very important | AQ39: Important | AT39: Important | AW39: Important | AY39: Very important | BC39: Important | BG39: I am not sure | BH39: Important | BL39: Reasonable | BN39: not at the moment
A40: 114280930065 | B40: Sarah Roggemann | C40: United States | D40: Wildlife Conservation Society | E40: I agree | G40: Important | I40: Very important | M40: Important | P40: Important | R40: Very important | U40: Very important | X40: Very important | AA40: Very important | AD40: Very important | AG40: Very important | AJ40: Very important | AM40: Very important | AQ40: Important | AS40: Very important | AW40: Important | AZ40: Important | BC40: Important | BF40: No, remove it | BI40: Not important | BK40: Easy
...

Sheet Financial statements
A1: Respondent ID | B1: Please input your information. Only your country information is a requirement, but personal information is helpful for our analysis if you are willing to provide it. | E1: Any personal information you have provided will only be held for the purposes of developing INPAG. You may withdraw your consent for us to hold any of your personal information at any time here, or email ifr4npo@cipfa.org. | F1: How important is it to separate transactions and balances between those that have restrictions and those that do not? | J1: Do you agree that each line on the face of the Statement of Income and Expenses should be split between amounts with restrictions and amounts without restrictions? | N1: How easy will it be for NPOs to show separate columns on the Statement of Income and Expenses for amounts with and without restrictions? | R1: The proposal is to have three columns on the face of the Statement of Income and Expenses - (income and expenses with restrictions, income and expenses without restrictions, and total income and expenses). Do you agree that comparatives for the previous period for all columns should also be shown on the face of this statement? | U1: On the Statement of Financial Position, do you agree with that accumulated surpluses and deficits (fund balances) are split between those with and those without restrictions ? | Y1: On the Statement of Financial Position, do you agree that assets and liabilities are not split between those with and those without restrictions? | AC1: On the Statement of Changes in Net Assets, do you agree that funds are split between those with and those without restrictions? | AF1: Do you have any comments on the proposals for fund accounting? | AG1: Do you agree with the name of the primary statement being ‘Statement of Income and Expenses’? | AJ1: Do you agree that the terms surplus / deficit should be used instead of profit / loss? | AM1: Do you agree that items of Other Comprehensive Income (some unrealised gains and losses) should be included in the Statement of Changes in Net Assets rather than the Statement of Income and Expenses | AP1: How often do NPOs you are familiar with have items of Other Comprehensive Income (certain unrealised gains and losses)? | AU1: On the Statement of Cash Flows, how easy will it be for NPOs to provide information about grants and donations? | AY1: How important is it that cash donations and grants are shown on the face of the Statement of Cash Flows? | BB1: How useful will it be to be able to state compliance with INPAG? | BG1: Are there any other comments you would like to make about the proposals with respect to the financial statements?
B2: Name | C2: Country | D2: Organisation | E2: I agree | F2: Very important | G2: Important | H2: Not important | I2: Not relevant | J2: Yes | K2: No | L2: I don't know | M2: Other (please specify) | N2: Easy | O2: Somewhat difficult | P2: Very challenging | Q2: I don't know | R2: Yes | S2: No | T2: Other (please specify) | U2: Yes | V2: No | W2: I don't know | X2: Other (please specify) | Y2: Yes | Z2: No | AA2: I don't know | AB2: Other (please specify) | AC2: Yes | AD2: No | AE2: I don't know | AF2: Open-Ended Response | AG2: Yes | AH2: I don't know | AI2: No - any reason or alternative suggestion? | AJ2: Yes | AK2: I don' know | AL2: No - any reason or alternative suggestion? | AM2: Yes | AN2: I don't know | AO2: No - any reason or alternative suggestion? | AP2: Frequently | AQ2: Rarely | AR2: Sometimes | AS2: Never | AT2: I don't know | AU2: Easy | AV2: Somewhat difficult | AW2: Very challenging | AX2: I am not sure | AY2: Very important | AZ2: Important | BA2: Not so important | BB2: Very useful | BC2: Beneficial | BD2: Problematic | BE2: Not relevant | BF2: I don't know | BG2: Open-Ended Response
A3: 118286040238 | B3: Sandra Nafungo | C3: Uganda | D3: Fastlyne Foundation | E3: I agree | F3: Very important | J3: Yes | N3: Easy | R3: Yes | U3: Yes | Z3: No | AC3: Yes | AF3: I strongly agree with seperating the funds between those with and those without restriction. | AG3: Yes | AJ3: Yes | AM3: Yes | AQ3: Rarely | AU3: Easy | AY3: Very important | BB3: Very useful | BG3: no
A4: 118286036251 | B4: Kelechi Unaeze | C4: Nigeria | D4: Achieving Health Nigeria Initiative | E4: I agree | F4: Very important | J4: Yes | O4: Somewhat difficult | S4: No | U4: Yes | Z4: No | AC4: Yes | AI4: Statement of Contribution and Expenditures | AJ4: Yes | AM4: Yes | AQ4: Rarely | AV4: Somewhat difficult | AZ4: Important | BC4: Beneficial
A5: 118286032831 | B5: Seduisant Taz-Mbodi | C5: Côte d'Ivoire | D5: Family Health International (FHI 360) | E5: I agree | F5: Very important | J5: Yes | O5: Somewhat difficult | R5: Yes | U5: Yes | Y5: Yes | AC5: Yes | AG5: Yes | AJ5: Yes | AM5: Yes | AR5: Sometimes | AU5: Easy | AY5: Very important | BB5: Very useful
A6: 118285994600 | B6: Emmanuel MUTANGANA | C6: Rwanda | D6: OAG | E6: I agree | F6: Very important | J6: Yes | N6: Easy | R6: Yes | W6: I don't know | Y6: Yes | AD6: No | AF6: No | AG6: Yes | AJ6: Yes | AO6: Other comprehensive income, we know that affect profit attributable to shareholders which implicates to retained earning and on non profit making organisation application of retained earning will not be there, as not for profit purposes. | AT6: I don't know | AU6: Easy | AY6: Very important | BB6: Very useful | BG6: No
A7: 118285979424 | B7: Mohamed Abdelrahman | C7: Egypt | E7: I agree | F7: Very important | J7: Yes | O7: Somewhat difficult | R7: Yes | U7: Yes | Z7: No | AC7: Yes | AG7: Yes | AJ7: Yes | AM7: Yes | AR7: Sometimes | AV7: Somewhat difficult | AY7: Very important | BC7: Beneficial
A8: 118285964646 | B8: Satyajit Saha | C8: Bangladesh | D8: NETZ Partnership for Development and Justice | E8: I agree | F8: Very important | J8: Yes | O8: Somewhat difficult | T8: I think one column for comparatives for the previous period is fine | X8: In the notes to the FS we can show it separately | Y8: Yes | AC8: Yes | AF8: Activities those are done for the profit of the entity should not be treated by IAS 20 | AG8: Yes | AL8: This is not relevant in the context of NPOs that serves community | AM8: Yes | AS8: Never | AV8: Somewhat difficult | AY8: Very important | BC8: Beneficial
A9: 118285893658 | B9: Jose Leonardo Milan | C9: Venezuela | E9: I agree | F9: Very important | M9: Sí. Siempre que la OSFL tenga las donaciones Voluntarias de 3eros como principal financiamiento de su operación. En caso de otro tipo de entidades como los Condominios o Deportivas no veo necesidad de esta separacion en cada linea de ingresos. | N9: Easy | R9: Yes | U9: Yes | Z9: No | AD9: No | AG9: Yes | AJ9: Yes | AM9: Yes | AR9: Sometimes | AU9: Easy | AY9: Very important | BC9: Beneficial | BG9: 1) Registro contable del coste de recepción de donativos en especie en el caso de las ONL de salud y protección de la vida. Para este tipo de OSFL, recibir de un donante extranjero mobiliario para uso temporal o permanente de sus beneficiarios (por ejemplo, concentradores de oxígeno, sillas de ruedas, etc.) implica en muchos casos asumir los costes de nacionalización (impuestos) y traslado al lugar donde se presta la asistencia médica. Asimismo, en el caso de los medicamentos, muchos de ellos implican costes de trámites legales ante las autoridades sanitarias de cada país para poder recibirlos (por ejemplo, antidepresivos o ansiolíticos, que están clasificados como psicotrópicos). 2) No existe un modelo de registro para el coste legal u otras alternativas de Crowdfunding que actualmente puede realizar casi cualquier OSFL (ICO a través de su propio NFT). Dado que existe un historial documentado de Crowdfunding para diversas causas benéficas (lucha contra el cambio climático, conservación de una especie animal en peligro de extinción, operaciones de alto coste, etc. ) y dado que esto proporcionaría a la OSFL fondos sin restricciones de uso, la mayoría puede buscar financiación por esta vía, sin embargo, en general, se deben realizar trámites legales previos ante la autoridad gubernamental (SEC en el caso de EEUU, SUNACRIP en el caso de Venezuela) para ser autorizada y crear el correspondiente Token No Fungible y enviarlo a las personas interesadas en adquirirlo para colaborar con la causa benéfica asociada. 3) Falta de un modelo de presentación de estados financieros para las OSFL que no se sustentan en donativos de terceros como principal fuente de ingresos como las deportivas o educativas. a) En el caso de las OSFL educativas, se basan principalmente en el cobro de colegiaturas a sus beneficiarios para garantizar su funcionamiento y no en los donativos que puedan recibir de terceros. La suma de los ingresos brutos por dichas colegiaturas puede llegar a asemejarse a una empresa con fines de lucro, por lo que sería importante en el apartado 35 colocar un modelo para el desglose a detalle de la ejecución presupuestal en los objetivos propuestos de cada semestre o año (contabilizando en datos absolutos y textuales). b) En las O4NonP deportivas no necesariamente cobran una cuota de inscripción o membresía pero si cobran inscripción a torneos u otros eventos que se realicen para que con el superávit puedan comprar los insumos que la institución necesita (balones, uniformes, etc.) así como el pago de entrenadores. En este comportamiento se incluyen las asociaciones que surgen espontáneamente en los sectores más vulnerables de la sociedad como forma de proteger a los menores de las influencias negativas de su entorno. Adicionalmente, en el caso de los deportes O4NonP, no necesariamente son propietarios de las canchas o espacios necesarios para realizar las actividades físicas que promueven, pero pueden recibir un "Derecho de Uso Preferente" (que sería un Activo Intangible) de un espacio adecuado para ello por parte de la Alcaldía o municipalidad (Institución del Estado) que les permita operar y tener un impacto positivo en la comunidad que buscan, pero las canchas siguen siendo propiedad del Estado. 4) Condominios (La junta que gestiona los gastos comunes en Edificios Residenciales, Edificios de Oficinas y Edificios de Centros Comerciales) : Por definición en muchos países, las juntas de condominio son empresas sin fines de lucro encargadas de mantener en buen estado la propiedad horizontal donde residen o trabajan los ocupantes, sin embargo dichos ocupantes están OBLIGADOS a pagar una cuota periódica dependiendo del metraje mismo de cada propiedad por lo que no puede tomarse como un donativo aunque cada residente sería sin duda el primer interesado en los estados financieros generados por la junta de condominio.
A10: 118285888868 | B10: Atef Mohamed | C10: Egypt | D10: MEK foundation | E10: I agree | F10: Very important | J10: Yes | N10: Easy | R10: Yes | U10: Yes | Z10: No | AC10: Yes | AF10: No | AG10: Yes | AJ10: Yes | AM10: Yes | AR10: Sometimes | AU10: Easy | AY10: Very important | BB10: Very useful | BG10: No
A11: 118285881995 | B11: Martins Nuel Adewumi | C11: Nigeria | E11: I agree | F11: Very important | K11: No | O11: Somewhat difficult | R11: Yes | U11: Yes | Y11: Yes | AD11: No | AF11: Non | AI11: Resources Inflow and Expenditure | AJ11: Yes | AM11: Yes | AR11: Sometimes | AU11: Easy | AY11: Very important | BC11: Beneficial | BG11: Non
A12: 118285879741 | B12: Namatai Moyo | C12: Zimbabwe | D12: Kindernothilfe e.V. | E12: I agree | F12: Very important | J12: Yes | N12: Easy | R12: Yes | U12: Yes | Y12: Yes | AC12: Yes | AF12: Fund accounting is very very important in NPOs and thusly, should be shown on the Financial Statements. | AG12: Yes | AJ12: Yes | AM12: Yes | AQ12: Rarely | AU12: Easy | AY12: Very important | BB12: Very useful | BG12: None
