Workbook

Sheet CIPFA_IFR4NPO_CONSULTATIONPART1
A1: Respondent.Serial | B1: Respondent.Origin (1/6) | C1: Respondent.Origin (2/6) | D1: Respondent.Origin (3/6) | E1: Respondent.Origin (4/6) | F1: Respondent.Origin (5/6) | G1: Respondent.Origin (6/6) | H1: Respondent.ID | I1: DataCollection.Status (1/9) | J1: DataCollection.Status (2/9) | K1: DataCollection.Status (3/9) | L1: DataCollection.Status (4/9) | M1: DataCollection.Status (5/9) | N1: DataCollection.Status (6/9) | O1: DataCollection.Status (7/9) | P1: DataCollection.Status (8/9) | Q1: DataCollection.Status (9/9) | R1: DataCollection.StartTime | S1: DataCollection.FinishTime | T1: DataCollection.MetadataVersionNumber | U1: DataCollection.TerminateSignal | V1: NameOfRespondent[{Name_of_person_providing_the_response}].TextQuestion | W1: GMC1a_Agreement | X1: GMC1a_IfNotWhyNot | Y1: GMC1a_SupportingInfo | Z1: GMC2a_Agreement | AA1: GMC2a_IfNotWhyNot | AB1: GMC2a_SupportingInfo | AC1: GMC2b_Agreement | AD1: GMC2b_IfNotWhyNot | AE1: GMC2b_SupportingInfo | AF1: GMC2c_Agreement | AG1: GMC2c_IfNotWhyNot | AH1: GMC2c_SupportingInfo | AI1: GMC3a_SupportingInfo | AJ1: GMC3b_SupportingInfo | AK1: GMC4a_Agreement | AL1: GMC4a_IfNotWhyNot | AM1: GMC4b_Agreement | AN1: GMC4b_IfNotWhyNot | AO1: GMC4b_SupportingInfo | AP1: GMC4c_Agreement | AQ1: GMC4c_IfNotWhyNot | AR1: GMC4c_SupportingInfo | AS1: GMC5a_MainChallenges | AT1: GMC5a_AlternativeModelFoundationFramework | AU1: FurtherUpdates | AV1: ProjectURL_Text | AW1: RandomID_Text | AX1: EmailAddressCopy
A2: 28 | B2: HTMLPlayer | H2: gemwyskc | I2: Completed | R2: 44282.692 | S2: 44282.709 | T2: 0.042361111 | V2: Robert Stephens | W2: Agree | Z2: Agree | AB2: Resource Providers include Members of the Board of Directors of the NPO who are usually volunteers who give their time and inputs for free and do not expect or request compensation for their services. | AC2: Agree | AF2: Agree | AI2: Guidance that is accrual-based the main challenge for small to medium-sized NPO’s is financing the cost of auditors to provide the detailed accrual-based accounting reports that most stakeholders require but do not provide funding to support. | AJ2: Guidance that includes non-financial information reporting requires that NPO’s select qualified and competent managers and accountants and members of their boards of directors. | AK2: Agree | AM2: Agree | AP2: Agree | AS2: The main challenges will be to ensure the requirements for transparency and reporting by NPO’s are added where appropriate. | AU2: Agree | AV2: https://www.ifr4npo.org/cp-survey | AW2: gemwyskc | AX2: rspragma@yahoo.com
A3: 43 | B3: HTMLPlayer | H3: z0kyjzp5 | I3: Completed | R3: 44329.794 | S3: 44329.871 | T3: 0.042361111 | V3: Namatai Moyo | W3: Agree | X3: I do agree with the broad characteristics proposed in Chapter 1 for describing NPOs. However, within the services provided by NPOs, as prescribed under section 1.4, there is a need to also include economic empowerment as well. As this is a very criticial service that NPOs also provide. | Z3: Agree | AC3: Agree | AD3: This is very much important and has being left out many times in lots of audits I have seen. I totally agree. | AF3: Agree | AH3: None at the moment that I could think of. | AI3: The accrual basis is much needed but finance staff within NPO sector currently lack the capacity to implement this accrual -based accounting. Something which needs to be looked into and see how it can be emphasised to staff whom are already working within the NPO sector and without capacity. | AJ3: I do not see any main challenges. This is perfect. It would also, be good if the auditors could also audit this information to see/verify the actual beneficaries said to be reached as stated in the report. | AK3: Agree | AL3: However, I am of the view that this time because of digitalization it might take a shorter time to create a guidance for NPOs. As compared to the 20 years mentioned in the chapter it might even take 5years. Just my thoughts. We have plenty of time with this COVID-19 situation at hand. | AM3: Agree | AP3: Agree | AS3: The main challenge would be that it is not quite used in my country of residence and thus, in summary people are not well veered with it. | AT3: None at the moment. | AU3: Agree | AV3: https://www.ifr4npo.org/cp-survey | AW3: z0kyjzp5 | AX3: nsmoyo21@yahoo.co.uk
A4: 45 | B4: HTMLPlayer | H4: h6xdo1yo | I4: Completed | R4: 44334.321 | S4: 44334.384 | T4: 0.042361111 | V4: Wessel Pretorius | W4: Agree | Y4: some NPOs has membership contributions as a revenue stream that could be added to the characteristics | Z4: Agree | AB4: beneficiaries of services could also be considered as important stakeholders | AC4: Agree | AE4: environmental impact and considerations could also be considered as reporting information | AF4: Agree | AI4: agree with the statement. however, accrual-based reporting requires special skills that could be a challenge and not affordable for many small NPOs | AJ4: the Global Reporting Initiative is also working on sustainability reporting standards that could be aligned with this guidance | AK4: Agree | AL4: care should be taken to avoid creating another burden for NGOs. Supplementary guidance attached to IFRS for SMEs could be considered to address this challenge | AM4: Agree | AO4: see comments above | AP4: Agree | AS4: as mentioned, the GRI standards could also be considered | AU4: Agree | AV4: https://www.ifr4npo.org/cp-survey | AW4: h6xdo1yo | AX4: wesselp@shelfpeople.co.za
A5: 59 | B5: HTMLPlayer | H5: d3rg2niy | I5: Completed | R5: 44367.515 | S5: 44367.545 | T5: 0.042361111 | V5: Nwachukwu Chukwuebuka Oguchi | W5: Agree | Z5: Agree | AC5: Agree | AF5: Agree | AH5: None of the standards for profit - oriented entities and governmental organizations currently address the financial reporting needs of NPO stakeholders (and other users of NPO financial reports) as they stand. | AI5: Well the usual challenges include:- 1. Leads to complex/technical accounting standards:- Concepts such as deferred taxes, depreciation, recognition of accruals & deferrals, accounting for provisions, accounting for adjusting events after the reporting date etc can all be said to have their roots in Accrual Accounting. 2. Can lead to hard - to - understand financial statements:- Whilst accountants understand that the profit & Loss account does not, on its own, show that a business is doing well, lay persons may interpret accounting profit or loss too literally. 3. Increases cost of compliance:- Whilst this is a positive for the Accounting industry, the truth still remains that most accrual - based reports can only accurately prepared and interpreted by accountants. This comes at a cost to the reporting entity. | AJ5: The challenges are:- 1. Subjectivity:- Non - financial information cannot be measured to the same degree of accuracy as financial information. In any case, current standards are silent on measurement and recognition matters for non - financial information so reporting entities have to apply a great deal of judgement. 2. Easily manipulated:- Since the standards are mostly silent on recognition and measurement of most non - financial information, the reporting entity may choose to measure and recognize in whatever way it feels will be in its interest. | AK5: Agree | AM5: Agree | AP5: Agree | AS5: I applaud the use of IFRS for SMEs as a foundational framework if nothing else because it eliminates listed company accounting issues such as accounting for EPS and segmental reporting. The fact that IFRS for SMEs does not recommend complex accounting measurement and classification options (such as Fair Value Measurement for financial instruments) is also commendable. I support the use of IFRS for SMEs as the foundational framework. But again, it is profit - oriented and does not address the reporting requirements of NPO stakeholders. The Nonproft accounting standards developed by FASB in USA may be a better foundational framework. | AT5: The Nonproft accounting standards developed by FASB in USA may be a better foundational framework. This, if nothing else,is because it already has solved many of the issues we want resolved by an international NPO GAAP. | AU5: Agree | AV5: https://www.ifr4npo.org/cp-survey | AW5: d3rg2niy | AX5: nwachukwuaca18@gmail.com
A6: 71 | B6: HTMLPlayer | H6: iy36q62i | I6: Completed | R6: 44376.323 | S6: 44376.357 | T6: 0.042361111 | V6: Caroline Kariuki | W6: Agree | Z6: Agree | AC6: Agree | AF6: Agree | AI6: Many organisations like community based organisations and Faith based including churches many not have the capacity to hire trained personnel to handle accrual based accounting. They will also require resources to switch to IFRS for NPOs | AJ6: Reporting about the impact of the grant which in many cases takes years to realise. Others achievements are not tangible and can only be felt after a long time. There is no standard way of measures achievements and impact, different organisations use different methods, other do not put emphasis on measuring impact. Hiring staff to measure impact is also an issue for cash constrained organisations. | AK6: Agree | AM6: Agree | AP6: Agree | AS6: I have an issue to the notes of accounts. The standard language used is for SMEs not specifically NPOs. I believe every sector has its own language which is understood. | AU6: Agree | AV6: https://www.ifr4npo.org/cp-survey | AW6: iy36q62i | AX6: cknjeri1@gmail.com
A7: 80 | B7: HTMLPlayer | H7: x034cxpn | I7: Completed | R7: 44377.975 | S7: 44378.064 | T7: 0.042361111 | V7: Jeanette Calder | W7: Agree | Z7: Agree | AC7: Disagree | AD7: I don't think all stakeholders require the same level of information. For example does the public who is a legitimate stakeholder need to have access pertaining to the organisation's economy and efficiency. | AE7: The identified areas for information sharing are appropriate. The concern is whether all areas should be equally accessible by all stakeholders. | AF7: Agree | AI7: Can't think of any | AJ7: Don't know enough to provide a useful answer. | AL7: Don't know enough to provide a useful answer. | AN7: Don't know enough to provide a useful answer. | AQ7: Don't know enough to provide a useful answer. | AS7: Don't know enough to provide a useful answer. | AU7: Agree | AV7: https://www.ifr4npo.org/cp-survey | AW7: x034cxpn | AX7: jeanettec@jampja.org
A8: 85 | B8: HTMLPlayer | H8: b1jm24v3 | I8: Completed | R8: 44379.422 | S8: 44380.368 | T8: 0.042361111 | V8: Francis Mba | W8: Agree | X8: I wish the non profit sharing characteristic could emphasized more by making it the first. From my experience it is the most consistent and easy to identify characteristic. | Y8: A large volunteer work force. | Z8: Agree | AB8: Staff. NPO should also be accountable to the staff. When staff are not convinced about the accountability of an NPO some of them may undermine the mission of the NPO | AC8: Agree | AD8: Without accountability to external stakeholders some NPO may exploit the society at large. | AF8: Agree | AG8: The only hep I have seen in trying to harmonize reporting standard is the “companion guide”prepared by ACCA | AH8: Some of them invade the financial privacy of NPO with the excuse that their is no generally acceptable standard . | AI8: Most NPO cannot afford the staff that can guarantee consistent use of accrual accounting. Also most of their transactions are cash based meaning that they usually do not have debtors or creditors that make accrual accounting essential. | AJ8: I do not see any challenge except that their will be need to define key terminologies that will be used. | AK8: Agree | AL8: Even though NPOs are peculiar financial reporting is largely the same. | AM8: Agree | AP8: Agree | AU8: Agree | AV8: https://www.ifr4npo.org/cp-survey | AW8: b1jm24v3 | AX8: sicnarfabm@gmail.com
A9: 90 | B9: HTMLPlayer | H9: cluinvu9 | I9: Completed | R9: 44380.369 | S9: 44380.389 | T9: 0.042361111 | V9: Hillary Luboyera | W9: Agree | Z9: Agree | AC9: Agree | AF9: Agree | AJ9: Non financial information is imperative to be included in the Financial reports though a question arises when trying to match the figures with some of the non-financial information such as project progress may not be such an easy task. Thus, people may scrutinize or even compare the financial reports in relation to the non-financial information, some of which may not be "speaking the same language" | AK9: Agree | AL9: Yes they are. Provided that the international framework guidance has looked at length the different jurisdiction requirements as sort of found a general or common ground. | AM9: Agree | AP9: Agree | AU9: Agree | AV9: https://www.ifr4npo.org/cp-survey | AW9: cluinvu9 | AX9: luboyerah84@gmail.com
A10: 93 | B10: HTMLPlayer | H10: q9qbuqe3 | I10: Completed | R10: 44381.317 | S10: 44381.347 | T10: 0.042361111 | V10: Alper ASLAN | W10: Agree | Z10: Agree | AC10: Agree | AF10: Agree | AI10: modified cash-based is the best able to meet the financial information needs of a wide range of NPO stakeholders | AJ10: The objectives, strategy, risks, and performance of the NPO should all be included in the financial reports. This will assist stakeholders and funders in comprehending the NPO's entire position. | AK10: Agree | AM10: Agree | AP10: Agree | AS10: The primary challenge is persuading all stakeholders and contributors in the global guideline, as well as governments, to adhere to the same standards and instructions outlined in the global guideline and prevent the need for more and more reports. | AU10: Agree | AV10: https://www.ifr4npo.org/cp-survey | AW10: q9qbuqe3 | AX10: alperaslan2019@gmail.com
A11: 95 | B11: HTMLPlayer | H11: addme | I11: Completed | R11: 44381.563 | S11: 44381.819 | T11: 0.042361111 | V11: Rafat Bandak | W11: Agree | Z11: Agree | AB11: Community as NPO is responsible for all communities that it work for. | AC11: Agree | AF11: Agree | AK11: Agree | AM11: Agree | AP11: Agree | AU11: Agree | AV11: https://www.ifr4npo.org/cp-survey | AW11: addme | AX11: rafat@bandak.ps
A12: 97 | B12: HTMLPlayer | H12: s2e7wlul | I12: Completed | R12: 44383.847 | S12: 44383.865 | T12: 0.042361111 | V12: ANDRE MAKUTUBU BALIBWANABO | W12: Agree | Z12: Agree | AC12: Agree | AF12: Agree | AI12: N/A | AJ12: N/A | AK12: Agree | AM12: Agree | AP12: Agree | AS12: IFRS for SMEs is not the international model it can change in each country | AT12: I purpose the IFRs | AU12: Agree | AV12: https://www.ifr4npo.org/cp-survey | AW12: s2e7wlul | AX12: balibwanabo@hotmail.com
A13: 102 | B13: HTMLPlayer | H13: ucgkhmrz | I13: Completed | R13: 44385.69 | S13: 44385.707 | T13: 0.042361111 | V13: Rumiya Kamari | W13: Agree | Z13: Agree | AC13: Agree | AF13: Agree | AI13: Modified Cash seems to be the best as it combines both accounting basis. If it can be standardised across NPOs, that might solve many problems | AK13: Agree | AM13: Agree | AS13: IFRS for SMEs has its limitation and I believe IFR4NPO can fill the gaps | AU13: Agree | AV13: https://www.ifr4npo.org/cp-survey | AW13: ucgkhmrz | AX13: Rumiya.Kamari@plan-international.org
A14: 110 | B14: HTMLPlayer | H14: dajfgtpp | I14: Completed | R14: 44388.85 | S14: 44388.875 | T14: 0.042361111 | V14: Meti Busha | W14: Agree | Z14: Agree | AC14: Agree | AF14: Agree | AI14: The issue of change resistance for some NPO's might be a challenge. In addition, the cost involved in accepting the change from the previous system to full accrual based system might be a challenge. | AJ14: The challenge of having non financial information included in the report will be the effort, time and expertise to meet the requirement will be additional issue that the organizations have to think about. Therefore it may take time for organizations to accept and adopt it. | AK14: Agree | AM14: Agree | AQ14: The question is not clear to me | AS14: The challenges with the proposed model will could be: 1. The confusion it may create with just on the process of moving to IPSAS then this model again comes in. 2. the cost of adopting it as it capacity to accept and move to the proposed system | AU14: Agree | AV14: https://www.ifr4npo.org/cp-survey | AW14: dajfgtpp | AX14: metiwaaq@gmail.com
A15: 127 | B15: HTMLPlayer | H15: rz5m7rq5 | I15: Completed | R15: 44390.63 | S15: 44405.383 | T15: 0.042361111 | V15: Tim Boyes-Watson | W15: Agree | Z15: Agree | AB15: I believe the trustees should be viewed as a group that NPOs are accountable to, as there is often significant separation between the executive management and voluntary trustees. | AC15: Agree | AE15: There may be a case for adding information about what an NPO's values are and how it puts those values into practice. | AF15: Agree | AH15: The lack of harmonisation in expenditure classification and recognition is a major burden on NPOs in their donor financial reporting. International consistency on expenditure classification in audited acccounts could form a new and better basis for harmonising expenditure classification in grant reporting to donors. As part of this a lack of consistency in defining overheads partly drives a starvation cycle of inadequate cost recovery. Given the current distribution of which countries have developed NPO standards or guidance, this discriminates against NPOs from Global South countries that apply for funds compared to NPOs headquartered in the Global North, who can prepare their accounts in ways that meet theirs and donors' needs more fully. Misunderstandings about the role and use of reserves undermines the ability of NPOs to build reserves and ensure their financial sustainability and independence. Almost no donors currently accept the need to build reserves as a legitimate use of grant funds. As donor funding often enables NPOs to grow, this can leave NPOs with less reserves coverage and therefore more financially fragile at the end of the grant. | AI15: Many donors, especially government donors, insist on cash-based special purpose reports. If this conflicts with the guidance it may create reluctance to adopt, or complications for NPOs if they apply accruals accounting in their underlying financial records. | AJ15: The challenge can be that this acts as a burden and becomes too complex so that it confuses rather than informs users. | AK15: Agree | AM15: Agree | AP15: Agree | AS15: There may be challenges that stem from the underlying core conceptual framework that underpins all standards developed for the for-profit sector being focused on delivering a different key purpose than the key purpose of non-profit accounts. However, there is a need to start somewhere and existing international standards give a headstart. | AT15: Emerging thinking from New Zealand non-profit accounting should be looked at carefully to see if any of their attempts to chart a more complete framework can be drawn on in developing this guidance. There may also be lessons from integrated reporting and social auditing that could lead to guidance about including quantitative reporting that speaks more to the non-financial objectives and impact of non-profits. However, this will need to be weighed carefully to ensure it adds more value to users than the additional reporting burden it might represent. | AU15: Agree | AV15: https://www.ifr4npo.org/cp-survey | AW15: rz5m7rq5 | AX15: tim.boyeswatson@humentum.org
A16: 142 | B16: HTMLPlayer | H16: 792j0v0u | I16: Completed | R16: 44390.871 | S16: 44398.779 | T16: 0.042361111 | V16: Olufemi Temidayo Akintoye | W16: Disagree | X16: It is important to focus on the name "NPO" to avoid ambiguity. This project is about NPO hence, Legal Status should be considered as the most important basis for identifying and recognizing an NPO. Recently, many private organizations are getting fundings to implement grants and even though they deliver services for the public benefit they are driven by profit also. In 2019, Chemonics received $1.5 Billion from USAID alone, but they are not NPOs. So there is a need to have a clear difference between an NPO and a PO organisation and the major area of distinction is the legal status, which should be considered in describing NPOs. Secondly, the grant "income" in the third characteristic should be considered as revenue or funding. So, it should read "may have significant voluntary funding and grant revenue" or may have significant voluntary and grant funding. Revenue represents funds received for project implementation while income is the amount remaining after subtracting all expenses associated with project implementation. So the emphasis should be on revenue as against income. | Y16: Legal Status should first be the basis for describing an NPO. The character approach is too generic and this can cause confusion to many organisations who by characteristics fit into any of the options provided. However, Legal Status means that before any organisation considers itself as an NPO, it must first register within its jurisdiction as such. Usually, during registration, an organisation must have met the criteria of an NPO which is not far from the characteristics mentioned in GMC 1(a). | Z16: Agree | AA16: I am assuming that the Government and its Agencies are part of the regulators. | AC16: Agree | AE16: Proposed alternative areas include Risk Management and Sustainability reporting. The misappropriation of Donor's funds and the recent effect of the COVID pandemic has shown that risk management is important as it concerns the going concern of NPOs. Stakeholders need to know the effort made in identifying and understanding the risks to which an organization is subjected and then finding ways to mitigate and manage such risk in a way that does not affect the going concern of the NPO. The second proposed area is Sustainability reporting. The recent floods in most European and African countries and heatwaves in the American countries resulting in the death of hundreds of people is a result of climate change. Stakeholders need to understand and have an overview of the NPOs economic, environmental and social impacts, caused by their day to day operations. | AF16: Agree | AH16: Another area of concern is reporting and accountability to donors and the type of grant being implemented by the NPO. For instance, while the standard grant encourages a high burn rate which favours the cash basis of accounting, Contract emphasis on cash savings and accrual can be comfortable use for reporting. A good example of this is an illustration of the purchase of a motor vehicle in the life of a project. Usually, the standard grant will expect that the total cost of purchase is expended and reported in the year purchase so that the burn rate for the period will be high. There is a need to have a common ground and acceptable standard for both standard grants and contracts, e.g fixed cost price, Payment by result e.t.c to be reported, and this standard should address but project design and reporting once accepted by both the Donor's and implementing NPOs. | AI16: Great care needs to be exercised in the application of the accrual concept, because of its complex nature especially for NPOs with short-term contracts and reimbursable projects and also with limited unrestricted funds. A faulty application could lead to a cash constraint or a working capital crisis. A practical way of explaining this is using an advance payment like office rent. If an organisation pays $120,000 for a year rent and needs to report such expenses using a cash basis, the whole amount of $120,000 is expensed in the month it is paid. For accrual basis, and going by the matching concept of accounting $10,000 only is expensed every month. So for an NPO that has and relies on reimbursable grants, when using the accrual basis, the report to the donor will only contain $1,000 expenditure on rent for the period whereas, $120,000 cash has gone out from its bank and that means, the donor will only be reimbursed the organisation $10,000 and this could lead to cash crisis. | AJ16: No main challenge par se, however, for this to happen there is a need to have the substantive involvement of the Board of Trustees of the NPOs. Substantive involvement is easy to achieve for big NPOs, but the same cannot be said for smaller NPOs like the Community Based Organisations who have limited fundings in bringing their BOT together at least once in a year. | AK16: Agree | AM16: Agree | AO16: To what extent does the framework meet the requirements of the providers of funds. The For-Profit Organisations are majorly accountable to their investors because they are the providers of funds. The Public sectors are majorly accountable to the citizens because they are the owners of the fund. For NPOs, the Funders/Donors are the major stakeholders because they provide the funds, hence, their guidelines and requirement should be considered as major criteria used in assessing framework suitability. | AP16: Agree | AR16: Financial Asset especially inventories. In the last two years, the amount spent on PPE (Personal/Personel Protective Equipment) has increased significantly because of the COVID Pandemic. Before this time, millions of dollars have been spent on drugs held for or transferred to facilities, large quantities of M&E materials for data reporting e.t.c. At the end of a reporting period, most of these items are at our warehouses and stores. How do we value them? should we bring them to our books? | AS16: The providers of funds guidelines are not considered at all in the development of SMEs and in order for this project (IFR4NPO) successful and adoption easier and acceptable, the interest and position of the Donor's must be strongly considered. | AT16: Due to the reason above, Donor's guidelines plus IFRS for SMEs. | AU16: Agree | AV16: https://www.ifr4npo.org/cp-survey | AW16: 792j0v0u | AX16: akintoyefemi2011@yahoo.com
A17: 144 | B17: HTMLPlayer | H17: 2ol0c7pp | I17: Completed | R17: 44391.211 | S17: 44391.258 | T17: 0.042361111 | V17: Samantha Mutemera | W17: Agree | Z17: Agree | AC17: Agree | AF17: Agree | AI17: NPOs use the cash basis for their accounting as they only use the funds available from the grants or donations. | AK17: Agree | AM17: Agree | AP17: Agree | AS17: SMEs are profit making smaller organizations which normally have full entitlement to the assets which they will be using, whilst NPOs are not into profit making nor do they normally have ownership of their assets. The NPOs also need to fully adhere to the donor’ s instructions. These differences need to be carefully noted in making use of the IFRS for SMEs as the foundational framework. | AU17: Agree | AV17: https://www.ifr4npo.org/cp-survey | AW17: 2ol0c7pp | AX17: samanthamutemera@gmail.com
A18: 145 | B18: HTMLPlayer | H18: 6oz49fgp | I18: Completed | R18: 44391.277 | S18: 44391.288 | T18: 0.042361111 | V18: Rutendo M | W18: Agree | Z18: Agree | AC18: Agree | AF18: Agree | AK18: Agree | AM18: Agree | AP18: Agree | AU18: Agree | AV18: https://www.ifr4npo.org/cp-survey | AW18: 6oz49fgp | AX18: rutendovalleriemakumbinde@gmail.com
A19: 147 | B19: HTMLPlayer | H19: c2abo2oc | I19: Completed | R19: 44391.483 | S19: 44392.443 | T19: 0.042361111 | V19: Dunstan Ian Rukare | W19: Agree | Z19: Agree | AC19: Agree | AF19: Agree | AI19: The challenge is to educate and train stakeholders and preparers of NPO financial statements. There may be need to develop standard operating procedures to ensure accrual accounting practices adopted at NPO's. | AJ19: None | AK19: Agree | AM19: Agree | AP19: Agree | AS19: The main challenge would be in training and educating the different stakeholders on the benefits. The adoption and switch to IFRS for SME's should clearly show and highlight the significant benefits to these stakeholders, otherwise there may be resistance to change. | AU19: Agree | AV19: https://www.ifr4npo.org/cp-survey | AW19: c2abo2oc | AX19: drukare@gmail.com
A20: 149 | B20: HTMLPlayer | H20: 2zp9p5bi | I20: Completed | R20: 44392.436 | S20: 44407.441 | T20: 0.042361111 | V20: Leslie Williams | W20: Agree | X20: I feel that by and large these broad characteristics do capture the organisations that I feel should be within this framework | Z20: Agree | AA20: I strongly agree | AC20: Agree | AD20: These are the essential ingredients that governs an NPO's operation if information around these are not available then it stands to reason that an NPO should not exist. | AF20: Agree | AI20: The two main challenges I envisaged with the accrual-based accounting looking at my jurisdiction; Knowledge of accrual based accounting is almost non-existent amongst NPOs in Sierra Leone. This has to be an entire knowledge transformation process. Finance and non-finance staff have to be oriented which could include workshops and seminars and at a greater extent monitoring for a period after the trainings have been delivered to ensure that NPOs are able to apply the knowledge given. The other challenge is to do with the current accounting software and in some cases where it is excel based. Most accounting software for NPOs are not accrual based and as such will either have to be tailored to capture such in terms of having GR/IR capability to manage accruals or NPOs procuring software that can accommodate accrual accounting. This also has resource implications especially for smaller NPOs who might be using excel based systems. Some have moved to software packages and are still grappling with them to have to change again to an accruals based system will be somewhat challenging | AJ20: The main challenges I see here will be resource implications, human capacity to compile and craft these non-financial information, the appropriate recording keeping tools to enable the NPO to accurately report on non-financial information. Another challenge is whether NPOs will see non-financial information for stakeholders and reporting as necessary, will they view it as important and of greater relevance and will they have the 'will' to ensure that these are accurately and professionally presented within their reports. | AK20: Agree | AM20: Agree | AP20: Agree | AS20: I foresee issues around the disclosures, tailoring the existing disclosures to fit within the scope of the NPO sector. Some of these disclosures are extensive and quite complex and if not tailored properly will pose issues for NPOs in reporting against such disclosures. There could be issues around timing and relevance as some of these disclosures are updated regularly and the guidance could have been looking at the existing disclosures and by the time the guidance notes are released for implementation, these disclosures have been significantly amended or changed. | AT20: Not sure of an alternate model now, as we have to have a starting point and the existing standards, IFRS for SME's Full IFRS and IPSAS does provide a great platform to build to craft an appropriate guidance | AU20: Agree | AV20: https://www.ifr4npo.org/cp-survey | AW20: 2zp9p5bi | AX20: lesliewilliams_uk@yahoo.co.uk
A21: 150 | B21: HTMLPlayer | H21: 4398my3f | I21: Completed | R21: 44392.567 | S21: 44392.574 | T21: 0.042361111 | V21: Owen Mavengere | W21: Agree | Z21: Agree | AC21: Agree | AF21: Agree | AJ21: Assurance on that information might be a challenge. That being said non-financial information is critical for impact reporting which would show the effect of an NPO on its environment and society. | AK21: Agree | AM21: Agree | AP21: Agree | AS21: Income/revenue. Non exchange revenue may need to be adapted from IPSAS. | AU21: Agree | AV21: https://www.ifr4npo.org/cp-survey | AW21: 4398my3f | AX21: owenm@icaz.org.zw
A22: 157 | B22: HTMLPlayer | H22: qdzf7iyu | I22: Completed | R22: 44394.311 | S22: 44394.334 | T22: 0.042361111 | V22: Nigel Joseph Ndekwere | W22: Agree | Z22: Agree | AC22: Agree | AF22: Agree | AK22: Agree | AM22: Agree | AP22: Agree | AU22: Agree | AV22: https://www.ifr4npo.org/cp-survey | AW22: qdzf7iyu | AX22: njndekwere@gmail.com
A23: 158 | B23: HTMLPlayer | H23: 9nh8vamn | I23: Completed | R23: 44394.432 | S23: 44394.44 | T23: 0.042361111 | V23: Steve Brentnall | W23: Agree | Z23: Agree | AC23: Agree | AI23: Most charities are small and Receits and Payments accounting is perfectly OK | AK23: Disagree | AL23: No - not necessary. International is only required for a small number of NPOs. | AU23: Disagree | AV23: https://www.ifr4npo.org/cp-survey | AW23: 9nh8vamn | AX23: steve@brentnall.org
A24: 162 | B24: HTMLPlayer | H24: vi7k93j3 | I24: Completed | R24: 44396.457 | S24: 44396.493 | T24: 0.042361111 | V24: Hilda Hakiza | W24: Agree | Z24: Agree | AC24: Agree | AF24: Agree | AI24: Whilst I agree that Accrual-based guidance is preferred, the challenge is that many of these small to medium NPOs do not have in-house capacity and sometime rely on the external advisors/auditors. | AK24: Agree | AM24: Agree | AP24: Agree | AS24: The challenge I perceive is in regard to jurisdictions that may not follow or comply with the frameworks being drawn from. | AU24: Agree | AV24: https://www.ifr4npo.org/cp-survey | AW24: vi7k93j3 | AX24: hhakiza@gmail.com
A25: 164 | B25: HTMLPlayer | H25: ibim123* | I25: Completed | R25: 44397.394 | S25: 44398.957 | T25: 0.042361111 | V25: Temitope Awolusi | W25: Agree | Z25: Agree | AC25: Agree | AF25: Agree | AI25: I believe that accrual based financial information is best but the donors will also need to understand the advantages of the accrual basis.Some expenses eg purchase of assets that are paid for instalmentally ,it should be clear at what point should this cost be recognized either at the point of the piecemeal payment,final payment or when the commitment is made with the supplier. | AK25: Agree | AM25: Agree | AP25: Agree | AU25: Agree | AV25: https://www.ifr4npo.org/cp-survey | AW25: ibim123* | AX25: temikola@yahoo.com
A26: 166 | B26: HTMLPlayer | H26: dwa44x6e | I26: Completed | R26: 44398.219 | S26: 44398.243 | T26: 0.042361111 | V26: Gibson Runesu | W26: Agree | Z26: Agree | AB26: Governments to which these services are provided as at the end of the day, the service provider would quantify the service and attributes to States whose beneficiaries belong. For example, donor A can actually say it gave Zimbabwe $2m food aid, just as an example | AC26: Agree | AF26: Disagree | AG26: The current requirements from different donors may be regarded as management reports that speak to internal information. For the general public my view is to have standardized reporting | AH26: Current accountability may be difficult to quantify the impact of services when defined from external stakeholders like government as it will be limited in accessing and interrogating of financial information. | AI26: I don't see main challenges as information will be standardized and comparable across different service providers | AJ26: Non-financial reporting in my view does not pose any major challenges if well guided on how to go about, especially if the frameworks are well defined. However, decisions made on judgemental can best be understood by the decision maker and so impact assessments of such non financial information reporting may be subjective at the end of the day. | AK26: Agree | AM26: Agree | AP26: Agree | AS26: SMEs have different sizes going down to small family businesses | AU26: Agree | AV26: https://www.ifr4npo.org/cp-survey | AW26: dwa44x6e | AX26: runesug@gmail.com
A27: 173 | B27: HTMLPlayer | H27: v7vpgcl7 | I27: Completed | R27: 44398.7 | S27: 44398.726 | T27: 0.042361111 | V27: Ufulu Chungu | W27: Agree | Z27: Agree | AC27: Agree | AF27: Agree | AI27: Smaller NPOs will need to employ more qualified accountants which they cannot afford to maintain on their payroll Manual based accounting systems may face challenges to process accrual-based transactions. Computerised (accounting software) better placed but the cost involved may be a drawback for smaller NPO | AJ27: The importance of documentation of activities. Does the NPO have the ability / capacity to properly document non-financial information? Can the NPO manage to hire an external consultant to assess / evaluate and report on the NPO’s non-finance activities? | AK27: Agree | AM27: Agree | AP27: Agree | AU27: Agree | AV27: https://www.ifr4npo.org/cp-survey | AW27: v7vpgcl7 | AX27: ufuluchungu@yahoo.com
A28: 176 | B28: HTMLPlayer | H28: 328pxa8x | I28: Completed | R28: 44399.421 | S28: 44399.549 | T28: 0.042361111 | V28: Li Chang | W28: Agree | Z28: Agree | AB28: Non-profit organizations should be accountable and accountable to service users, resource providers, and regulatory agencies. However, the description of these three external stakeholders is not comprehensive: First, the order of the three parties. According to the logic and importance of business development, it is recommended that the non-profit organizations be responsible for: regulatory agencies (legal and compliance), resource providers (starting point) and service users (end point). Second, there are doubts about the definition of service users. The guide mentions "Service users are those that benefit directly or indirectly from an NPO’s activities. Service users are those who directly or indirectly benefit from the activities of a non-profit organization." The starting point of the guidelines is the "direct or indirect beneficiaries", but how to judge the beneficiaries here? Does it include potential beneficiaries? Therefore, it is recommended to define "service users" as "the beneficiaries of the goals and moral legitimacy of non-profit organizations". Third, this chapter mainly emphasizes the external stakeholders, which meets the basic requirements, but the cost of formulating the guidelines is high, and it is necessary to make every effort to weigh the interests of all parties, including internal stakeholders and external stakeholders. Only considering external responsibility may consume a lot of internal resources, and these internal resources are also provided by external stakeholders. Therefore, weighing internal and external needs may also be considered. Internal stakeholders mainly include: management, employees, etc. | AC28: Agree | AE28: Basically agree. But whether to consider encouraging the disclosure of audit reports and organizational operational efficiency (such as corporate governance or internal control) information. The guidelines need to be forward-looking. One of the reasons for formulating guidelines to regulate is that non-profit organizations may have agency problems and some potential opportunistic behaviors. Although the guidelines require non-profit organizations to achieve goals, economic efficiency and effectiveness, compliance with restrictions and regulations, and disclosure of long-term financial health information, the reliability and authenticity of this information also need to be reviewed. The reliability and authenticity of information depends on how much the organization's internal governance and external audit can play a role. | AF28: Agree | AH28: This guide covers three aspects: Legal form, Speciﬁc NPO standards or none at all, and'Size' of NPO and reporting tiers, namely the legal form, the degree of detail of the institutional arrangements, and the differences between the institutional arrangements for different types of non-profit organizations, etc. Ask a question. However, it is recommended to consider supplementing the objectives of the institutional arrangements and the content of the structural system, and hope to add relevant examples to avoid general expressions. The current guide’s presentation of the question part is a signal: because the institutional arrangements of different jurisdictions are different, they need to be standardized and unified, and there is insufficient analysis of the degree of difference and coordinability of the institutional arrangements of different jurisdictions. In addition, in response to the financial accountability needs of donors, issues related to major concerns such as connected transactions can also be emphasized. | AI28: Accrual-based financial information is based on the separation of duties, with the complex and costly operation process, which imposes higher requirements on financial personnel, and it is not easy to select qualified financial personnel and control the implementation cost without strong financial support for small-sized NPOs. In addition, the lack of guidance from standards and documents in the process of defining competencies may result in inaccurate accounting data, etc. | AJ28: The inclusion of non-financial information is conducive to stakeholders' understanding of the performance of NPOs. But NPOs have obvious heterogeneity in terms of size and type, and the requirements for non-financial information vary from region to region. So how to ensure different financial reports’ consistency and comparability and simultaneously reflect the different NPOs’ characteristics will be a problem when we consider the inclusion within the Guidance of principles related to non-financial reporting information as the second core premise. | AK28: Disagree | AL28: The international framework has not been fully covered. At present, there are still some countries and regions that do not follow the international framework in accounting standards, and this situation is difficult to change in a short time.In this context, problems of convergence and conflict with existing accounting frameworks cannot be ignored if the guidance on financial reporting for non-profit organizations is required to take the international framework as a starting point. The economic environment, political environment and legal environment of countries and regions are significantly different, and the characteristics of non-profit activities and the interest demands for financial reporting standards are different.As far as the economic environment is concerned, many countries with modest economic strength may tend to learn from international frameworks for the sake of cost and benefit.However, countries with strong economic strength take less consideration of the cost. They will modify the international framework to achieve international convergence, use the international framework or use their own unique conceptual framework according to their own economic characteristics and their own interests. The political environment affects a country's right to speak in the formulation of international framework. The stronger the political influence of a country in the world, the higher its participation in the formulation of the international framework, and the more the international framework will reflect the interests of the country.When advocating the international framework as the starting point for the Guidelines, it is necessary to consider whether the existing international framework can represent the interests of relatively disadvantaged countries and regions, which determines whether the Guidelines can be truly accepted by these countries and regions and can be well implemented in these places.Many developing countries have limited say in the international arena, and their national interests can hardly be reflected in the formulation of international frameworks. The legal origin of individual countries and regions also needs to be taken into account in assessing whether it is reasonable to base the Guide on an international framework. It is relatively easy for countries and regions with similar legal systems to learn from each other, but difficult for countries with similar legal systems to learn from each other.The international framework is more of a reflection of the will and interests of western developed countries, and most of these countries implement the common law system. For other countries that also implement the common law system, if they insist on the international framework as a starting point, they will be able to absorb the financial reporting standards for non-profit organizations better and faster.For countries with civil law systems, however, they may face some obstacles. According to the review, the proposal to use an international financial reporting framework as the basis for financial reporting guidelines for NPOs needs to be more carefully argued in light of the heterogeneity across countries and regions. | AM28: Agree | AO28: The first criterion is "the extent to which the framework provides guidance on key issues for NPOs". As the description and analysis states, although existing guidelines can be used for NPOs in many areas, no framework can address all key issues specific to NPOs.This guide is aware of the inadequacy and strength of the international framework in solving the specific problems of non-profit organizations. However, the use of "key problems" in the standard is not direct enough. It is better to directly point out "specific problems". The second criterion is "whether the authors, auditors and users are familiar with and easy to use the framework". However, this is only a description. The essence of this criterion is that the degree of use of the conceptual framework varies greatly around the world, and the basic conditions for the implementation, use and understanding of international framework are different in different places.So I don't think measures like providing a simplified, easy-to-understand, regularly revised framework address the root cause and don't get to the heart of the problem.The essence of the problem lies in whether the financial reporting framework currently implemented by various countries and regions matches the international framework. The judgment of this dimension is necessary to be reflected as a standard. The third criterion, "How feasible is it to develop and maintain the guidance within the framework?" describes it as a more detailed measure of feasibility with "less complexity and fewer accounting solutions, disclosure requirements that are more appropriate to the nonprofit context, and less frequent revision." However, can the framework that meets the above three evaluation indexes still show superiority and effectiveness? It's worth a little more discussion. For example, IPSAS is more suitable for the disclosure requirements of not-for-profit organizations. IFRS for SMEs reduces the accounting options and only updates every five years or so on average. When these evaluation indicators cannot be represented in a framework, they need to be prioritized or weighted to calculate the overall score. | AP28: Agree | AR28: Although the existing international framework can be evaluated at a high level according to the above criteria, even so, the limited three criteria should not necessarily lead to the conclusion that the international framework is fully applicable to the NPO financial reporting guidelines.Due to the limitations of our cognition and research, there may be other factors that we fail to take into account or cannot observe, but play a key role in the essence of the problem. In addition, our high-level assessment of existing international frameworks against these criteria is done on the premise that we accept the recommendation to use existing international frameworks as the starting point for the guidance.We need to consider whether the criteria by which existing international frameworks are evaluated will change if this recommendation is not taken as a presupposition.For example, the advantages of the existing international framework compared to other frameworks, and the compatibility with the current implementation framework. | AS28: SMEs and NPOs are different in nature. SMEs aim at making profits, while NPOs do not aim at making profits. The different nature of them make certain differences in the preparation of financial reports.If IFRS for SMEs is to be used as the basis framework, that is to say, the financial reporting standards of profit organizations are to be used as the basis framework for the financial reporting standards of NPOs, there will inevitably be some incompatibility. The scope of application of IFRS for SMEs is: entity that publishes general purpose financial statements for external users and does not have public accountability. The applicability of IFRS for SMEs is entirely dependent on whether the entity has public accountability.However, NPOs are mainly engaged in fiduciary business and have public accountability, which may not be compatible with IFRS for SMEs. IFRS for SMEs may not address the reporting issues that are specific to NPOs.Full IFRS Standards, IPSAS and/or jurisdictional level standards may also need to be applied, as appropriate, for NPO-specific reporting issues.How to integrate different principles and guidelines is also a challenge. NPOs of different sizes have different reporting requirements. IFRS for SMEs as the basic framework may not be able to meet the reporting requirements of NPOs with complex business and large scale. Although there are some challenges, overall, I think IFRS for SMEs as the foundational framework is appropriate. | AU28: Agree | AV28: https://www.ifr4npo.org/cp-survey | AW28: 328pxa8x | AX28: 18641181626@163.com
A29: 180 | B29: HTMLPlayer | H29: z38ul5is | I29: Completed | R29: 44402.265 | S29: 44407.695 | T29: 0.042361111 | V29: Mark Jerome | W29: Agree | Z29: Agree | AC29: Agree | AF29: Agree | AI29: There are two risks: 1. It may not always be obvious when an event occurs. 2. Accrual-based accounting can be complex and require significant judgement. These increase the risk of confusion, inconsistency and error. | AJ29: There are no clear, settled criteria for reporting non-financial information: in some cases, there are no criteria; in others (e.g. environmental reporting), there are a number of different sets of standards, with different approaches and results. Unless the criteria for such reporting are clear, there is a risk that reports by different entities will not be readily comparable and that an entity may use inconsistent criteria and bases for reporting from one year to the next. | AK29: Agree | AL29: International frameworks make a good starting point, from which standards relevant to NPOs can be developed incrementally. | AM29: Agree | AO29: IFRS uses the concept of a hierarchy of standards (IAS 8: articles 10-12) to assist preparers in the absence of an IFRS that specifically applies to a transaction, other event or condition. (First, the requirements in IFRSs dealing with similar and related issues; second, the concepts in the Conceptual Framework; third, pronouncements of other standard‑setting bodies that use a similar conceptual framework) This approach could be used when a selected international framework does not specifically address transactions or other events and/or conditions that are relevant to NPOs. In addition, the presentation of budget information, addressed by IPSAS 24, is highly relevant to most NPOs that I have worked with. It is often requested by donors and management and would be useful to regulators and other stakeholders. | AP29: Agree | AS29: I note the statement that IFRS for SMEs may be more familiar than full IFRS or IPSAS. In my experience in South East Asia, any accountants who were comfortable with accrual accounting were familiar with IFRS; not many knew about IFRS for SMEs. | AT29: Is it possible to have a two-pronged approach, with IFRS or IPSAS for complex NPOs and IFRS for SMEs for less complex organisations? | AU29: Agree | AV29: https://www.ifr4npo.org/cp-survey | AW29: z38ul5is | AX29: mjerome@gcfund.org
A30: 181 | B30: HTMLPlayer | H30: djts4s8j | I30: Completed | R30: 44402.522 | S30: 44402.533 | T30: 0.042361111 | V30: Hisham Khilfeh | W30: Agree | Z30: Agree | AC30: Agree | AF30: Agree | AK30: Agree | AM30: Agree | AP30: Agree | AU30: Agree | AV30: https://www.ifr4npo.org/cp-survey | AW30: djts4s8j | AX30: hkhilfeh@tagi.com
A31: 182 | B31: HTMLPlayer | H31: jbzra4kt | I31: Completed | R31: 44402.636 | S31: 44402.696 | T31: 0.042361111 | V31: Mohammed Abdo Alsaidi | W31: Agree | Y31: deliver services for public benefit, because, the NPO created for provide the services and benefits to public. | Z31: Agree | AC31: Agree | AF31: Agree | AI31: The challenges in the forms of financial reports from Donors, which each donor has different form of financial report, that NPO toke time and effort to prepare the reports as per the donor forms and requirements, although, each NPO has accounting system and the reporting in those systems is standers which not matched with donor's reports form. so, We hope that all donors will standardize the reporting forms required from non-profit organizations. | AJ31: non | AK31: Agree | AM31: Agree | AP31: Agree | AS31: its ok, but almost of IFRS standers could not be used in the developing countries and countries affected by wars, famines and natural disasters | AT31: I don't know | AU31: Agree | AV31: https://www.ifr4npo.org/cp-survey | AW31: jbzra4kt | AX31: mohammed.alsaidi1@gmail.com
A32: 187 | B32: HTMLPlayer | H32: tc1mu1ge | I32: Completed | R32: 44403.672 | S32: 44403.679 | T32: 0.042361111 | V32: Eduardo Szazi | W32: Agree | Z32: Agree | AC32: Agree | AF32: Agree | AK32: Agree | AM32: Agree | AP32: Agree | AU32: Agree | AV32: https://www.ifr4npo.org/cp-survey | AW32: tc1mu1ge | AX32: eduardo@sbsa.com.br
A33: 188 | B33: HTMLPlayer | H33: 77owar31 | I33: Completed | R33: 44404.263 | S33: 44404.282 | T33: 0.042361111 | V33: Innocent Philips | W33: Disagree | X33: There a lot of for profit organizations providing social services/good which is delivered through contracts by funders and donors | Y33: Such organizations executing contracts and earning profit should be rightly placed as a normal organization. | Z33: Agree | AA33: It is need line with global best practices and humanitarian laws and principles | AC33: Agree | AF33: Agree | AI33: Most local organization do not systems and capacity to transit to the recommendations | AJ33: The main challenge is the different approach and expectation by funders. There is need for a congruence and harmonization of framework in this regard. | AK33: Agree | AM33: Agree | AP33: Agree | AS33: The proposed model I believe is adequate and should be fine tuned as further exploration are made to address areas on inadequacies. | AU33: Agree | AV33: https://www.ifr4npo.org/cp-survey | AW33: 77owar31 | AX33: hinephil2@yahoo.com
A34: 189 | B34: HTMLPlayer | H34: pbfpx56a | I34: Completed | R34: 44404.353 | S34: 44404.405 | T34: 0.042361111 | V34: Lawrence Akubori | W34: Agree | Z34: Agree | AC34: Agree | AF34: Disagree | AG34: This responses should have included 'partly agreed' and 'partly disagreed' - neither do I fully agree nor fully disagree with this statement. It may partly be true that, the imposition of data reporting templates/requirements are due to the absence/non availability of standardised accounting reporting templates/requirements/guidelines. Hence, this project may partly address this. I also partly disagree for this due to the following: 1. Donors would have referenced the non-uniformity of reporting standards for the imposition of their own reporting standards/requirements if it was so. 2. My experience with various donors revealed their non compliance or unwillingness to follow any other reporting/accounting standards/requirements other than what is imposed on them (donors) by their respective home countries states - the reason is the extra responsibility of complying with the requirements of standardised accounting reporting as this could be expensive and time consuming. | AI34: NPOs Operations are as fluid as for Profit Organisations, hence, a combination of accrual and cash basis in the form of the Modified Cash Basis takes on board the disadvantages of both the accrual and cash basis thus, making it the most appropriate to depict the operations and financial position (surplus/deficit) of the NPOs. Almost all NPOs are delivery services for public good and hence, its evaluative criteria would be the efficient use of resources. And to be able to determine its ability to effectively manage the resources it received from donors through value for money (VfM) measures, it is only appropriate to determine, measure and report costs lines items that are efficiently done through accrual basis and vice versa for costs lines items are efficiently measured and reported using the cash accounting basis. | AK34: Agree | AM34: Agree | AP34: Agree | AS34: I do agree with the statement in GMC 5(a) as it may be more acceptable globally in all jurisdictions. The main challenges, I see with the synchronisation of IFRS for SMEs drawing on the full IFRS, IPSAS and Jurisdictional level standards, would include, the level of resources required to pay for the time of committees/teams to under this task. The time frame requirement and consumption would be a major challenges. And, finally, the likely non buy-in of the existing bodies who developed and got IFRS, IPSAS etc approved for global usage. | AU34: Agree | AV34: https://www.ifr4npo.org/cp-survey | AW34: pbfpx56a | AX34: agombisah@gmail.com
A35: 191 | B35: HTMLPlayer | H35: ov6srxuk | I35: Completed | R35: 44404.994 | S35: 44405.24 | T35: 0.042361111 | V35: Belinda D'Souza | W35: Disagree | X35: A For Profit organisation can also deliver services for public benefit (eg private hospital) so maybe this should be followed by 'and' and not 'or'. | Y35: A more appropriate name for NPO may be For Purpose to change public expectation that NPO's shouldn't make a profit. | Z35: Agree | AC35: Agree | AD35: However, care would need to be taken on how to measure efficiency as this may not reflect the more important social impact where focus of a For Purpose organisation should be. ie if more needs to be spent for better social outcome this may show unfavourable efficiency if calculating on financial ratios alone. | AF35: Disagree | AG35: N/A - Only jurisdiction is Australia | AH35: Separate grant acquittal requirements within same jurisdiction adds to complexity and granularity of financial accuracy required. what would be immaterial for the organisation becomes material for each grant. | AI35: None other than revenue recognition criteria in line with AASB1058 and AASB15 where results are distorted due to timing of recognition of revenue vs expenses. | AJ35: Diversity and non-comparability between organisations. Within same organisation different program outcomes and time taken to clearly identify impacts may be well beyond reporting period. | AK35: Agree | AM35: Agree | AO35: International Frameworks should be start point. Learnings from national GAAP where For Purpose standards have been developed should be considered to incorporate learnings given not all met aspired objectives. (eg AASB1058) | AP35: Agree | AR35: IPSAS may be most relevant based on nature of organisations. I would need to better understand differences between IPSAS and IFRS and IFRS for SMEs to assess. Simplicity and relevance should be key criteria. | AS35: Revenue recognition and distortion of results; Obligation to report on some things that may not add value to the accounts within financial framework. May be better to report on things like volunteer contribution outside financial framework to not inappropriately distort accounts. | AU35: Agree | AV35: https://www.ifr4npo.org/cp-survey | AW35: ov6srxuk | AX35: bdsouza@redcross.org.au
